BEGIN:VCALENDAR
VERSION:2.0
PRODID:-//ChamberMaster//Event Calendar 2.0//EN
METHOD:PUBLISH
X-PUBLISHED-TTL:P3D
REFRESH-INTERVAL:P3D
CALSCALE:GREGORIAN
BEGIN:VEVENT
DTSTART:20210820T150000Z
DTEND:20210820T210000Z
X-MICROSOFT-CDO-ALLDAYEVENT:FALSE
SUMMARY:16th Annual FRAM Classic Golf
DESCRIPTION:The Frederic Remington Art Museum will hold its Annual Classic Golf Tournament at St. Lawrence University Golf and Country Club in Canton\, NY. Pre-registration is $75 per person and includes 18 holes of golf\, cart\, lunch at the turn\, and prizes. Interested in sponsoring the event? Sponsorships range from $75 a hold to $150\, $250 or $500 corporate and $1\,000 partnership levels.
X-ALT-DESC;FMTTYPE=text/html:The Frederic Remington Art Museum will hold its Annual Classic Golf Tournament at St. Lawrence University Golf and Country Club in Canton\, NY. Pre-registration is $75 per person and includes 18 holes of golf\, cart\, lunch at the turn\, and prizes. Interested in sponsoring the event? Sponsorships range from $75 a hold to $150\, $250 or $500 corporate and $1\,000 partnership levels.
LOCATION:St. Lawrence University Golf and Country Club\, Canton\, NY
UID:e.2288.10444
SEQUENCE:3
DTSTAMP:20260422T000723Z
URL:http://visitstl-gzcms.preview.gochambermaster.com/events/details/16th-annual-fram-classic-golf-10444
END:VEVENT

END:VCALENDAR
