BEGIN:VCALENDAR
VERSION:2.0
PRODID:-//ChamberMaster//Event Calendar 2.0//EN
METHOD:PUBLISH
X-PUBLISHED-TTL:P3D
REFRESH-INTERVAL:P3D
CALSCALE:GREGORIAN
BEGIN:VEVENT
DTSTART:20210612T220000Z
DTEND:20210613T010000Z
X-MICROSOFT-CDO-ALLDAYEVENT:FALSE
SUMMARY:2021 Music Series at Hosmers
DESCRIPTION:Presents: Rob Larabee
X-ALT-DESC;FMTTYPE=text/html:<span style="font-size:20px\;">Presents:&nbsp\;Rob Larabee</span>
LOCATION:Hosmers Ogdensburg NY
UID:e.2288.10467
SEQUENCE:3
DTSTAMP:20260422T051938Z
URL:http://visitstl-gzcms.preview.gochambermaster.com/events/details/2021-music-series-at-hosmers-10467
END:VEVENT

END:VCALENDAR
