BEGIN:VCALENDAR
VERSION:2.0
PRODID:-//ChamberMaster//Event Calendar 2.0//EN
METHOD:PUBLISH
X-PUBLISHED-TTL:P3D
REFRESH-INTERVAL:P3D
CALSCALE:GREGORIAN
BEGIN:VEVENT
DTSTART:20220709T123000Z
DTEND:20220709T210000Z
X-MICROSOFT-CDO-ALLDAYEVENT:FALSE
SUMMARY:2022 Scottish Festival
DESCRIPTION:Celebrating 200+ years of Scottish Heritage! Starting off at 8:30a.m. with a Kilt Walk/Run (7:45a.m. check-in)\, and from 10-5 enjoy the Scottish Festival with music\, dancing\, and Highland Games!
X-ALT-DESC;FMTTYPE=text/html:Celebrating 200+ years of Scottish Heritage! Starting off at 8:30a.m. with a Kilt Walk/Run (7:45a.m. check-in)\, and from 10-5 enjoy the Scottish Festival with music\, dancing\, and Highland Games!
LOCATION:Hammond Historical Museum 1A North Main St Hammond\, NY 13646
UID:e.2288.10970
SEQUENCE:3
DTSTAMP:20260420T214724Z
URL:http://visitstl-gzcms.preview.gochambermaster.com/events/details/2022-scottish-festival-10970
END:VEVENT

END:VCALENDAR
