BEGIN:VCALENDAR
VERSION:2.0
PRODID:-//ChamberMaster//Event Calendar 2.0//EN
METHOD:PUBLISH
X-PUBLISHED-TTL:P3D
REFRESH-INTERVAL:P3D
CALSCALE:GREGORIAN
BEGIN:VEVENT
DTSTART;VALUE=DATE:20260718
DTEND;VALUE=DATE:20260719
TRANSP:TRANSPARENT
X-MICROSOFT-CDO-ALLDAYEVENT:TRUE
SUMMARY:3rd Annual Rollin on the River
DESCRIPTION:3rd Annual Rollin on the River\n\nCome join us for the 3rd Annual Rollin on the River at Harts Falls in Hermon NY. We will start the float at 11 am and end at the Pyrites fire station where optional donations will be accepted. This event is free we just ask you bring your own tube. You can also find the event page on Facebook!
X-ALT-DESC;FMTTYPE=text/html:<span style="color:#8B4513\;"><span style="font-size:22px\;">3rd Annual Rollin on the River</span></span><br />\nCome join us for the 3rd Annual Rollin on the River at Harts Falls in Hermon NY. We will start the float at 11 am and end at the Pyrites fire station where optional donations will be accepted. This event is free we just ask you bring your own tube. You can also find the event page on Facebook!
LOCATION:Harts Falls Hermon NY
UID:e.2288.20780
SEQUENCE:3
DTSTAMP:20260420T064722Z
URL:http://visitstl-gzcms.preview.gochambermaster.com/events/details/3rd-annual-rollin-on-the-river-20780
END:VEVENT

END:VCALENDAR
