BEGIN:VCALENDAR
VERSION:2.0
PRODID:-//ChamberMaster//Event Calendar 2.0//EN
METHOD:PUBLISH
X-PUBLISHED-TTL:P3D
REFRESH-INTERVAL:P3D
CALSCALE:GREGORIAN
BEGIN:VEVENT
DTSTART:20230708T123000Z
DTEND:20230709T020000Z
X-MICROSOFT-CDO-ALLDAYEVENT:FALSE
SUMMARY:5K Kilt Run/Walk
DESCRIPTION:The Hammond Scottish Festival presents the 2023 5K Kilt Run/Walk! At 8:30am\, just before the Scottish Festival kicks off\, eager walkers and runners can take part in the 5K Run/Walk with a bagpiper leading the way! Make plans to stick around to enjoy the Scottish Festivities\, click HERE for event details!\n\n\n\nPre-registration perks end on June 30. Free T-shirt AND free entrance to the festival for all registrants. \n\n\n\nDon't forget to bring your kilt!\n\nIn the spirit of the race and the festival (and great fun!)\, a kilt is required to run/walk in this race. Basic kilt requirements are: 1) Pleated Back\, 2) Apron Front\, 3) Tartan
X-ALT-DESC;FMTTYPE=text/html:<span style="font-size:14px\;">The Hammond Scottish Festival presents the 2023 <span style="color:#008000\;"><strong>5K Kilt Run/Walk</strong></span>! At 8:30am\, just before the Scottish Festival kicks off\, eager walkers and runners can take part in the 5K Run/Walk with a bagpiper leading the way! Make plans to stick around to enjoy the Scottish Festivities\, click <a href="https://business.visitstlc.com/events/details/hammond-scottish-festival-07-08-2023-11522?calendarMonth=2023-07-01">HERE</a> for event details!<br />\n<br />\nPre-registration perks end on June 30. Free T-shirt AND free entrance to the festival for all registrants.&nbsp\;<br />\n<br />\n<span style="color:#008000\;"><u><strong>Don&#39\;t forget to bring your kilt!</strong></u></span><br />\nIn the spirit of the race and the festival (and great fun!)\, a kilt is <u>required</u>&nbsp\;to run/walk in this race. Basic kilt requirements are: 1) Pleated Back\, 2) Apron Front\, 3) Tartan</span>
LOCATION:Hammond Historical Museum 1A North Main Street Hammond\, NY
UID:e.2288.11523
SEQUENCE:3
DTSTAMP:20260422T094756Z
URL:http://visitstl-gzcms.preview.gochambermaster.com/events/details/5k-kilt-run-walk-11523
END:VEVENT

END:VCALENDAR
