BEGIN:VCALENDAR
VERSION:2.0
PRODID:-//ChamberMaster//Event Calendar 2.0//EN
METHOD:PUBLISH
X-PUBLISHED-TTL:P3D
REFRESH-INTERVAL:P3D
CALSCALE:GREGORIAN
BEGIN:VEVENT
DTSTART:20220430T170000Z
DTEND:20220501T030000Z
X-MICROSOFT-CDO-ALLDAYEVENT:FALSE
SUMMARY:A Falls Fest Fundraiser- Spring Fever
DESCRIPTION:Our first fundraiser will be April 30 at the Rensselaer Falls Fire & Rescue Department 1-11pm. There will be Music by DJ Dallas\, a Cornhole tournament\, food sales\, beer sales\, vendor sales\, raffle baskets and more! Check us out on Facebook by visiting The Falls Festival - 2022.
X-ALT-DESC;FMTTYPE=text/html:Our first fundraiser will be April 30 at the Rensselaer Falls Fire &amp\; Rescue Department 1-11pm. There will be Music by DJ Dallas\, a Cornhole tournament\, food sales\, beer sales\, vendor sales\, raffle baskets and more! Check us out on Facebook by visiting The Falls Festival - 2022.
LOCATION:Rensselaer Falls Fire & Rescue Department\, Rensselaer Falls NY
UID:e.2288.10998
SEQUENCE:3
DTSTAMP:20260420T225824Z
URL:http://visitstl-gzcms.preview.gochambermaster.com/events/details/a-falls-fest-fundraiser-spring-fever-10998
END:VEVENT

END:VCALENDAR
