BEGIN:VCALENDAR
VERSION:2.0
PRODID:-//ChamberMaster//Event Calendar 2.0//EN
METHOD:PUBLISH
X-PUBLISHED-TTL:P3D
REFRESH-INTERVAL:P3D
CALSCALE:GREGORIAN
BEGIN:VEVENT
DTSTART:20250214T230000Z
DTEND:20250216T200000Z
X-MICROSOFT-CDO-ALLDAYEVENT:FALSE
SUMMARY:Adirondack White Out Weekend
DESCRIPTION:Adirondack White Out Weekend\n\nTraditionally held on President's Day Weekend\, this annual winter festival stretches across the western Adirondack communities of Wanakena\, Star Lake\, Cranberry Lake and Newton Falls. A true wilderness area with a friendly\, small-town feel. Come out & have a snow day (or two) within the Adirondack Region in St. Lawrence County! Indoor and outdoor activities include natural history\, live music\, conta dancing\, open mics\, arts and crafts\, horse drawn wagon rides\, fry pan toss\, storytelling\, local food\, and more!\n\n\n\n2025 Schedule of Events\n\nClick HERE for a printable schedule.\n\n\nFriday\, February 14\n\n\n\nIce Jam-Boree 9th Birthday Bash and Open Air Open Mic \n\n6PM - 9PM @ Otto's Abode\, 6 Hamele Street\, Wanakena\n\nEnjoy some entertainment or be the entertainment! Sign up for a time to present your music\, poetry\, story or snowball juggling routine.\n\n\n\nCampfire & Snow Croquet & Hot Food\n\nDusk - TBD @  Z-Park at Otto's Abode\, 6 Hamele Street\, Wanakena\n\nWarm up by the fire\, visit with friends\, try a game of snow croquet! Otto's Abode will be open late for your snack and beverage needs.\n\n\n\nLuminary Woods Walk\n\nDusk - 10PM @ 2nd Street\, Wanakena\n\nWalk the wooded trail from 2nd street through the woods to Ranger School Road. They way will be lighted with ice luminaries!\n\n\n\nLabyrinth Fairy Village\n\nDusk - 10 PM @ South Shore Road\, Wanakena\n\nStroll across the iconic Wanakena Footbridge\, then to the labyrinth on South Shore Road. There\, meander through the maze while viewing the Fairy Villages sprinkled throughout its walkways.\n\n\n\nGlow Skating\n\n6 - 8 PM @ Clifton-Fine Arena (4173B NYS 3 / Star Lake)\n\nBring your own skates. Entry to the arena and glow item are FREE thanks to Nolan's Tax Service!\n\nSaturday\, February 15\n\n\n\nBigfoot Pancake Challenge\n\n8 AM - 10:45 AM@ U-B's Mercantile (3386 NY-3 / Oswegatchie)\n\nThink you've got what it takes to tackle the infamous Bigfoot Pancake? We dare you to try!\n\n\n\nJack Wax\n\n8 AM - 10:45 AM@ U-B's Mercantile (3386 NY 3 / Oswegatchie)\n\nJack Wax (aka Sugar on Snow) is created by pouring fresh maple syrup on cold snow. Twirl on a stick and you have a maple candy treat.\n\n\n\nBook\, Bake & Rummage Sale\n\n10 AM - 2 PM @ Clifton-Fine Community Center (4208 NY 3 / Star Lake)\n\nBrowse for good reads and tasty treats.\n\n\n\nSandwiches & Soups\n\n11:00 AM - 1 PM @ Clifton-Fine Community Center (4208 NY 3 / Star Lake)\n\nGrab a bowl of macaroni beef soup\, broccoli cheddar soup\, or chicken noodle soup and fuel up with a chicken salad or egg salad sandwich.\n\n\n\nHorse-Drawn Wagon Rides\n\nNoon - 2 PM @ Adirondack Exhibit Center (4195 NY 3 / Star Lake)\n\nImagine the gentle clippety-clop sound of horse hooves on... Route 3?!! Yes\, treat yourself\, family and friends to a wagon ride pulled by beautiful pair of horses.\n\n\n\nBusy Beavers\n\n11 AM-4 PM  @ Adirondack Exhibit Center (4195 NY 3 / Star Lake)\n\nLearn about the historic beaver fur trade in New York state by examining objects from the Adirondack Experience teaching collection\, including authentic beaver hats and pelts\, and visit Dolorus\, our beaver mount! Bring your kids to participate in some beaver related activities like constructing a beaver dam\,\n\ndoing activity sheets\, and playing a beaver game!\n\n\n\nCrafts\, Cookies & Videos\n\n10 AM - 4 PM @ Adirondack Exhibit Center (4195 NY 3 / Star Lake)\n\nDid you know the beaver is New York's state animal? Come learn all about beavers - watch a slide show\, frost your own beaver cookie and make a craft. \n\n\n\nMeet the Beaver Trappers\n\n10 AM - 4 PM @ Adirondack Exhibit Center (4195 NY 3 / Star Lake)\n\nExperienced local trappers Ed & Deb Baxter and Butch (AD) Brown will be available to answer questions. Skulls\, traps\, and pelts will be on display.  \n\n\n\nCampfire & S'mores\n\n10 AM - 4 PM @ Adirondack Exhibit Center (4195 NY 3 / Star Lake)\n\nWarm up by the campfire while you toast a marshmallow and make a s'more. Eat it\, too!\n\n\n\nFrying Pan Toss Contest\n\n11AM @ American Legion Mervin Eno Post 1539 (264 Benson Mines Rd. / Star Lake)\n\nJust how far can you toss a fry pan? Farther than the person next to you? You just might be the champion!\n\nFor kids and adults. Registration at 10:45am.\n\n\n\nFood\n\n11 AM - 3 PM @ American Legion\, Mervin Eno Post 1539 (264 Benson Mines Rd. / Star Lake)\n\nGrab a hotdog\, some chili or cheesy nachos at the American Legion.\n\n\n\nLive Music\n\n3 - 6 PM American Legion @ American Legion Mervin Eno Post 1539 (264 Benson Mines Rd. / Star Lake)\n\nEnjoy classic rock tunes performed by Tyler Sorrell!\n\n\n\nWine Tasting\n\n1 - 4 PM @ UB's Mercantile (3386 NY3 / Oswegatchie)\n\nJoin us in a heated tent to sample a variety of wines. All wine samples will be available to purchase by the bottle. Try before you buy!\n\n\n\nChainsaw Carving Demonstration\n\n10 AM\, 1 PM\, 3 PM @ Packbasket Adventures (12 Reed Rd. / Wanakena)\n\nPine and Bear It chainsaw carvers will create one of their carvings onsite! Carvings available for purchase.\n\n\n\nCarl's Carvings\n\n10 AM\, 1 PM\, 3 PM @ Packbasket Adventures (12 Reed Rd. / Wanakena)\n\nLocal artisan\, Carl Twyman\, displays his unique walking sticks. Just don't let a beaver get ahold of it. Carvings available for purchase.\n\n\n\nSnow Croquet\n\nAll Day @  Z-Park at Otto's Abode\, 6 Hamele Street\, Wanakena\n\nDrop in for a round of Snow Croquet. Never played? There's "snow" time like the present!\n\n\n\nLabyrinth Fairy Village\n\nAll Day @ S. Shore Rd. / Wanakena\n\nIf you missed the Labyrinth Fairy Garden Friday night\, then take stroll through it in the daytime.\n\n\n\nPickleball on Ice\n\n1-3 PM @ Clifton-Fine Arena (4173B NYS 3 / Star Lake)\n\nThink you're good at Pickleball? Give it a try on ice. Bring your own skates. This event is conditional on weather and the ability to have ice in the arena!\n\n\n\nAdirondack Beaver Tails\n\n1-3 PM @ Clifton-Fine Arena (4173B NYS 3 / Star Lake)\n\nCome try our North Country rendition of the beloved Canadian treat. Adirondack Beaver Tails are dessert waffles served on a stick with your choice of yummy toppings!\n\n\n\nWinter Tales\n\n11 AM - 4 PM @ Western Adk Presbyterian Church (11 Youngs Rd. / Star Lake)\n\nA collaboration of the Wanakena Historical Association and Common Thread Quilts. See old winter photos & artifacts. Hear stories from neighbors and readings from journals & newspapers. Share your photos & stories. Presentations at: 11 AM\, 1 PM and 3 PM. \n\n\n\nRefreshments\n\n1 - 4 PM @ Western ADK Presbyterian Church (11 Youngs Rd. / Star Lake)\n\nThe congregation of the Presbyterian Church generously provide homemade goodies for your enjoyment!\n\n\n\nFood\n\n5 - 8 PM @ Cranberry Lake Fire Hall (NY 3 / Cranberry Lake)\n\nChili\, Cornbread and desserts. Bring a pack of single serving snacks to donate to local elementary students\, get your dessert for FREE!\n\n\n\nBeaver Trivia\n\n5 - 6 PM @ Cranberry Lake Fire Hall (NY 3 / Cranberry Lake)\n\nAre you smarter than a beaver? Come test your knowledge of Beavers\, Winter and local Adirondack history. Teams of up to 4 individuals. Prizes include bragging rights and a collectible WOW souvenir!\n\n\n\nKnotty Paddy Concert\n\n6 - 7:45 PM @ Cranberry Lake Fire Hall (NY 3 / Cranberry Lake)\n\nA concert by local band\, Knotty Paddy. Celtic rock and speed folk! Plan for a rousing time.\n\n\n\nContra Dance\n\n8PM - 9PM @ Cranberry Lake Fire Hall (NY 3 / Cranberry Lake)\n\nDance to live & lively traditional music.  No experience & no partner needed. Come to dance or just watch.\nSunday\, February 16\n\n\n\nWinter Bird Walk\n\n9 - 11 AM @ SUNY ESF Ranger School (257 Ranger School Road / Wanakena)\n\nSUNY ESF Ranger School and Northern New York Audubon are sponsoring a winter bird walk in the James F. Dubuar Forest as part of the Adirondack White Out Weekend. Vanessa Rojas and Julie Fogden will co-lead the walk. No experience necessary. All are welcome. \n\n\n\nThis walk is geared  toward beginners. Bird ID and binocular use tips will be provided. Binoculars are available to use for those who do not have their own. Meet in the Dining Room of the main Ranger School building at 9am for snacks and a brief introduction\, then head outside by 9:15 to view bird activity on the Ranger School campus (to return at 11am). Parking is available in front of the Ranger School by the river. Limited handicap accessible parking is behind the building. Dress for the weather. Contact Vanessa Rojas at vgrojas@esf.edu with any questions.\n\n\n\nWintering for Humans\n\n11:30 AM - 1:30 PM @ Packbasket Adventures (12 Reed Rd. / Wanakena)\n\nHumans may not hibernate\, but our rhythms are different in winter. Come explore how to make the best of your winter season. Tea Ceremony to follow at 1:30pm.\n\n\n\nGrilled Cheese Sandwiches\n\n1:30 PM @ Packbasket Adventures (12 Reed Rd. / Wanakena)\n\n$5 each\n\n\n\nBaked Potato Bar\n\nNoon - 2 PM @ Newton Fall Fire Hall (955 CR 60 / Newton Falls)\n\nGrab a warm baked potato and make it your own unique tasty meal with toppings you choose.\n\n\n\nStorytelling by Lynn Morgan\n\n12:30 - 2 PM @ Newton Fall Fire Hall (955 CR 60 / Newton Falls)\n\nLynn is a master in the art of storytelling with 30 years of experience. She specializes in telling traditional folk tales from around the world. All ages welcome!\n\n\n\nAdirondack Beaver Tails\n\nNoon - 2 PM @ Newton Fall Fire Hall (955 CR 60 / Newton Falls)\n\nCome try our North Country rendition of the beloved Canadian treat. Adirondack Beaver Tails are dessert waffles served on a stick with your choice of yummy toppings!\n\n\n\nBeavers on the Big Screen\n\nNoon - 2 PM @  Newton Fall Fire Hall (955 CR 60 / Newton Falls)\n\nWatch beavers in action through a series of video on a big screen.\n\n\n\nExperimental Music Performance\n\n2 - 4 PM @ Z-Park @ Otto's Abode (6 Hamele St. / Wanakena)\n\nExperiment music troupe\, Local Service Initiative\, will showcase avant-garde and electro-acoustical ambiance featuring saxophones\, electronics and drums.
X-ALT-DESC;FMTTYPE=text/html:<p><span style="color:#008080\;"><span style="font-size:20px\;"><strong>Adirondack White Out Weekend</strong></span></span><br />\nTraditionally held on President&#39\;s Day Weekend\, this annual winter festival stretches across the western Adirondack communities of <strong>Wanakena\, Star Lake\, Cranberry Lake </strong>and <strong>Newton Falls.&nbsp\;</strong>A true wilderness area with a friendly\, small-town feel. Come out &amp\; have a snow day (or two) within the Adirondack Region in St. Lawrence County!&nbsp\;Indoor and outdoor activities include natural history\, live music\, conta dancing\, open mics\, arts and crafts\, horse drawn wagon rides\, fry pan toss\, storytelling\, local food\, and more!<br />\n<br />\n<span style="color:#800080\;"><strong style="color: rgb(0\, 128\, 128)\;"><span style="font-size: 20px\;">2025 Schedule of Events</span></strong></span><br />\n<strong><a href="https://drive.google.com/file/d/1Zqc43j2XioCYdNE9SZhBFeQHBkRP3vXD/view" target="_blank">Click HERE for a printable schedule.</a></strong></p>\n\n<hr />\n<p><span style="color:#008080\;"><span style="font-size:18px\;"><strong>Friday\, February 14</strong></span></span><br />\n<br />\n<strong><u>Ice Jam-Boree&nbsp\;9th Birthday Bash&nbsp\;and Open Air Open Mic</u>&nbsp\;<br />\n6PM - 9PM @ Otto&#39\;s Abode\,&nbsp\;<strong>6 Hamele Street\, Wanakena</strong></strong><br />\nEnjoy some entertainment or be the entertainment! Sign up for a time to present your music\, poetry\, story or snowball juggling routine.<br />\n<br />\n<u><strong>Campfire &amp\; Snow Croquet &amp\;&nbsp\;Hot Food</strong></u><br />\n<strong>Dusk - TBD @</strong>&nbsp\;&nbsp\;<strong>Z-Park at Otto&#39\;s Abode\,&nbsp\;<strong>6 Hamele Street\, Wanakena</strong></strong><br />\nWarm up by the fire\, visit with friends\,&nbsp\;try&nbsp\;a game of&nbsp\;snow croquet! Otto&#39\;s Abode will be open late for your snack and beverage needs.<br />\n<br />\n<u><strong>Luminary Woods Walk</strong></u><br />\n<strong>Dusk - 10PM @ 2nd Street\, Wanakena</strong><br />\nWalk the wooded trail from 2nd street through the woods to Ranger School Road. They way will be lighted with ice luminaries!<br />\n<br />\n<u><strong>Labyrinth Fairy Village</strong></u><br />\n<strong>Dusk - 10 PM @ South Shore Road\, Wanakena</strong><br />\nStroll across the iconic Wanakena Footbridge\, then to the labyrinth on South Shore Road. There\, meander through the maze while viewing the Fairy Villages sprinkled throughout its walkways.<br />\n<br />\n<u><strong>Glow Skating</strong></u><br />\n<strong>6 - 8 PM @ Clifton-Fine Arena (4173B NYS 3 / Star Lake)</strong><br />\nBring your own skates. Entry to the arena and glow item are&nbsp\;FREE&nbsp\;thanks to Nolan&#39\;s Tax Service!</p>\n\n<hr /><span style="color:#800080\;"><span style="font-size:18px\;"><strong style="color: rgb(0\, 128\, 128)\;">Saturday\, February 15</strong></span></span><br />\n<br />\n<u><strong>Bigfoot Pancake Challenge</strong></u><br />\n<strong>8 AM - 10:45 AM@ U-B&#39\;s Mercantile (3386 NY-3 / Oswegatchie)</strong><br />\nThink you&#39\;ve got what it takes to tackle the infamous Bigfoot Pancake? We dare you to try!<br />\n<br />\n<u><strong>Jack Wax</strong></u><br />\n<strong>8 AM - 10:45 AM@ U-B&#39\;s Mercantile (3386 NY 3 / Oswegatchie)</strong><br />\nJack Wax (aka Sugar on Snow) is created by pouring fresh maple syrup on cold snow. Twirl on a stick and you have a maple candy treat.<br />\n<br />\n<u><strong>Book\, Bake &amp\; Rummage Sale</strong></u><br />\n<strong>10 AM - 2 PM @ Clifton-Fine&nbsp\;Community Center (4208 NY 3 / Star Lake)</strong><br />\nBrowse for good reads and&nbsp\;tasty&nbsp\;treats.<br />\n<br />\n<u><strong>Sandwiches &amp\; Soups</strong></u><br />\n<strong>11:00&nbsp\;AM -&nbsp\;1&nbsp\;PM @ Clifton-Fine&nbsp\;Community Center (4208 NY 3 / Star Lake)</strong><br />\nGrab a bowl of macaroni beef soup\,&nbsp\;broccoli cheddar soup\, or chicken noodle soup and fuel up with a chicken salad or egg salad sandwich.<br />\n<br />\n<u><strong>Horse-Drawn Wagon Rides</strong></u><br />\n<strong>Noon&nbsp\;-&nbsp\;2&nbsp\;PM @ Adirondack Exhibit Center (4195 NY 3 / Star Lake)</strong><br />\nImagine the gentle clippety-clop sound of horse hooves on... Route 3?!! Yes\, treat yourself\, family and friends to a wagon ride pulled by beautiful pair of horses.<br />\n<br />\n<u><strong>Busy Beavers</strong></u><br />\n<strong>11&nbsp\;AM-4 PM&nbsp\; @ Adirondack Exhibit Center (4195 NY 3 / Star Lake)</strong><br />\nLearn about the historic beaver fur trade in New York state by examining objects from the Adirondack Experience teaching collection\, including authentic beaver hats and pelts\, and visit Dolorus\, our beaver mount! Bring your kids to participate in some beaver related activities like constructing a beaver dam\,<br />\ndoing activity sheets\, and playing a beaver game!<br />\n<br />\n<u><strong>Crafts\,&nbsp\;Cookies &amp\; Videos</strong></u><br />\n<strong>10&nbsp\;AM - 4 PM @ Adirondack Exhibit Center (4195 NY 3 / Star Lake)</strong><br />\nDid you know the beaver is New York&#39\;s state animal? Come learn all about beavers - watch a slide show\, frost your own beaver cookie and make a craft.&nbsp\;<br />\n<br />\n<u><strong>Meet the Beaver Trappers</strong></u><br />\n<strong>10&nbsp\;AM - 4 PM @ Adirondack Exhibit Center (4195 NY 3 / Star Lake)</strong><br />\nExperienced local trappers Ed &amp\; Deb Baxter and Butch (AD) Brown will be available to answer questions. Skulls\, traps\, and pelts will be on display.&nbsp\;&nbsp\;<br />\n<br />\n<u><strong>Campfire &amp\; S&#39\;mores</strong></u><br />\n<strong>10&nbsp\;AM - 4 PM @ Adirondack Exhibit Center (4195 NY 3 / Star Lake)</strong><br />\nWarm up by the campfire&nbsp\;while you&nbsp\;toast a marshmallow and&nbsp\;make a s&#39\;more. Eat it\, too!<br />\n<br />\n<u><strong>Frying Pan Toss Contest</strong></u><br />\n<strong>11AM @ American Legion Mervin Eno Post 1539 (264 Benson Mines Rd. / Star Lake)</strong><br />\nJust how far can you toss a fry pan? Farther than the person next to you? You just might be the champion!<br />\nFor&nbsp\;kids and adults.&nbsp\;Registration at 10:45am.<br />\n<br />\n<u><strong>Food</strong></u><br />\n<strong>11 AM - 3 PM @ American Legion\, Mervin Eno Post 1539 (264 Benson Mines Rd. / Star Lake)</strong><br />\nGrab a hotdog\, some chili or cheesy nachos&nbsp\;at the American Legion.<br />\n<br />\n<u><strong>Live Music</strong></u><br />\n<strong>3&nbsp\;-&nbsp\;6&nbsp\;PM American Legion&nbsp\;@ American Legion Mervin Eno Post 1539 (264 Benson Mines Rd. / Star Lake)</strong><br />\nEnjoy classic rock tunes performed by Tyler Sorrell!<br />\n<br />\n<u><strong>Wine Tasting</strong></u><br />\n<strong>1&nbsp\;-&nbsp\;4&nbsp\;PM @ UB&#39\;s Mercantile (3386 NY3 / Oswegatchie)</strong><br />\nJoin us in a heated tent to sample a variety of wines.&nbsp\;All wine samples will be available to purchase by the bottle.&nbsp\;Try before you buy!<br />\n<br />\n<u><strong>Chainsaw Carving Demonstration</strong></u><br />\n<strong>10 AM\, 1 PM\, 3 PM @ Packbasket Adventures (12 Reed&nbsp\;Rd. / Wanakena)</strong><br />\nPine and Bear It chainsaw carvers will create one of their carvings onsite! Carvings available for purchase.<br />\n<br />\n<u><strong>Carl&#39\;s Carvings</strong></u><br />\n<strong>10 AM\, 1 PM\, 3 PM @ Packbasket Adventures (12 Reed&nbsp\;Rd. / Wanakena)</strong><br />\nLocal artisan\, Carl Twyman\, displays his unique walking sticks. Just don&#39\;t let a beaver get ahold of it. Carvings available for&nbsp\;purchase.<br />\n<br />\n<u><strong>Snow Croquet</strong></u><br />\n<strong>All Day @</strong>&nbsp\;&nbsp\;<strong>Z-Park&nbsp\;at Otto&#39\;s Abode\,&nbsp\;<strong>6 Hamele Street\, Wanakena</strong></strong><br />\nDrop in for a round of Snow Croquet. Never played? There&#39\;s &quot\;snow&quot\; time like the present!<br />\n<br />\n<u><strong>Labyrinth Fairy Village</strong></u><br />\n<strong>All Day @ S. Shore Rd. / Wanakena</strong><br />\nIf you missed the Labyrinth Fairy Garden Friday night\, then take stroll through it in the daytime.<br />\n<br />\n<u><strong>Pickleball on Ice</strong></u><br />\n<strong>1-3&nbsp\;PM @ Clifton-Fine Arena (4173B NYS 3 / Star Lake)</strong><br />\nThink you&#39\;re good at Pickleball? Give it a try on ice. Bring your own skates. This event is conditional on weather and the ability to have ice in the arena!<br />\n<br />\n<u><strong>Adirondack Beaver Tails</strong></u><br />\n<strong>1-3&nbsp\;PM @ Clifton-Fine Arena (4173B NYS 3 / Star Lake)</strong><br />\nCome try our North Country rendition of the beloved Canadian treat.&nbsp\;Adirondack&nbsp\;Beaver Tails are dessert waffles served on a stick with your choice of yummy toppings!<br />\n<br />\n<u><strong>Winter Tales</strong></u><br />\n<strong>11 AM - 4 PM @ Western&nbsp\;Adk&nbsp\;Presbyterian Church (11 Youngs Rd. / Star Lake)</strong><br />\nA collaboration of the Wanakena Historical Association and Common Thread Quilts. See old winter photos &amp\; artifacts. Hear stories from neighbors and readings from journals &amp\; newspapers. Share your photos &amp\; stories.&nbsp\;Presentations at: 11 AM\,&nbsp\;1&nbsp\;PM and 3 PM.&nbsp\;<br />\n<br />\n<u><strong>Refreshments</strong></u><br />\n<strong>1 - 4 PM @ Western ADK Presbyterian Church (11 Youngs Rd. / Star Lake)</strong><br />\nThe congregation of the Presbyterian Church generously provide homemade goodies for your enjoyment!<br />\n<br />\n<u><strong>Food</strong></u><br />\n<strong>5 - 8 PM @ Cranberry Lake Fire Hall (NY 3 / Cranberry Lake)</strong><br />\nChili\,&nbsp\;Cornbread and&nbsp\;desserts. Bring a pack of single serving snacks to donate to local elementary students\, get your dessert for FREE!<br />\n<br />\n<u><strong>Beaver Trivia</strong></u><br />\n<strong>5 -&nbsp\;6&nbsp\;PM @ Cranberry Lake Fire Hall (NY 3 / Cranberry Lake)</strong><br />\nAre you smarter than a beaver? Come test your knowledge of Beavers\, Winter and local Adirondack history. Teams of up to 4 individuals. Prizes include bragging rights and a collectible WOW souvenir!<br />\n<br />\n<u><strong>Knotty Paddy Concert</strong></u><br />\n<strong>6&nbsp\;-&nbsp\;7:45&nbsp\;PM @ Cranberry Lake Fire Hall (NY 3 / Cranberry Lake)</strong><br />\nA concert by local band\, Knotty Paddy. Celtic rock and speed folk! Plan for a rousing time.<br />\n<br />\n<u><strong>Contra Dance</strong></u><br />\n<strong>8PM&nbsp\;-&nbsp\;9PM @ Cranberry Lake Fire Hall (NY 3 / Cranberry Lake)</strong><br />\nDance to live &amp\; lively traditional music.&nbsp\; No experience &amp\; no partner needed. Come to dance or just watch.\n<hr /><span style="font-size:18px\;"><strong style="color: rgb(0\, 128\, 128)\;">Sunday\, February 16</strong></span><br />\n<br />\n<u><strong>Winter Bird Walk</strong></u><br />\n<strong>9&nbsp\;- 11 AM @ SUNY ESF Ranger School (257 Ranger School Road / Wanakena)</strong><br />\nSUNY ESF Ranger School and Northern New York Audubon are sponsoring a winter bird walk in the James F. Dubuar Forest as part of the Adirondack White Out Weekend. Vanessa Rojas and Julie Fogden will co-lead the walk. No experience necessary.&nbsp\;All are welcome.&nbsp\;<br />\n<br />\nThis walk is geared&nbsp\; toward beginners. Bird ID and binocular use tips will be provided. Binoculars are available to use for those who do not have their own. Meet in the Dining Room of the main Ranger School building at 9am for snacks and a brief introduction\, then head outside by 9:15 to view bird activity on the Ranger School campus (to return at 11am).&#8239\;Parking is available in front of the Ranger School by the river. Limited handicap accessible parking is behind the building. Dress for the weather.&nbsp\;Contact Vanessa Rojas at&nbsp\;vgrojas@esf.edu with any questions.<br />\n<br />\n<u><strong>Wintering for Humans</strong></u><br />\n<strong>11:30 AM - 1:30 PM @ Packbasket Adventures (12 Reed Rd. / Wanakena)</strong><br />\nHumans may not hibernate\, but our rhythms are different in winter. Come explore how to make the best of your winter season. Tea Ceremony to follow at 1:30pm.<br />\n<br />\n<u><strong>Grilled Cheese Sandwiches</strong></u><br />\n<strong>1:30 PM @ Packbasket Adventures (12 Reed Rd. / Wanakena)</strong><br />\n$5 each<br />\n<br />\n<u><strong>Baked Potato Bar</strong></u><br />\n<strong>Noon -&nbsp\;2&nbsp\;PM @ Newton Fall Fire Hall (955&nbsp\;CR 60 / Newton Falls)</strong><br />\nGrab a warm baked potato and make it your own unique tasty meal with toppings you choose.<br />\n<br />\n<u><strong>Storytelling by&nbsp\;Lynn Morgan</strong></u><br />\n<strong>12:30 - 2&nbsp\;PM @ Newton Fall Fire Hall (955 CR 60 / Newton Falls)</strong><br />\nLynn is a master in the art of storytelling with 30 years of experience. She specializes in telling traditional folk tales from around the world. All ages welcome!<br />\n<br />\n<strong><u>Adirondack Beaver Tails</u><br />\nNoon&nbsp\;- 2 PM @ Newton Fall Fire Hall (955 CR 60 / Newton Falls)</strong><br />\nCome try our North Country rendition of the beloved Canadian treat.&nbsp\;Adirondack&nbsp\;Beaver Tails are dessert waffles served on a stick with your choice of yummy toppings!<br />\n<br />\n<u><strong>Beavers&nbsp\;on the Big Screen</strong></u><br />\n<strong>Noon - 2 PM @&nbsp\; Newton Fall Fire Hall (955 CR 60 / Newton Falls)</strong><br />\nWatch beavers in action through a series of video on a big screen.<br />\n<br />\n<u><strong>Experimental Music Performance</strong></u><br />\n<strong>2 - 4 PM @ Z-Park @ Otto&#39\;s Abode (6 Hamele St. / Wanakena)</strong><br />\nExperiment music troupe\, Local Service Initiative\, will showcase avant-garde and electro-acoustical ambiance featuring saxophones\, electronics and drums.&nbsp\;
LOCATION:Star Lake | Wanakena | Cranberry Lake | Newton Falls\, NY
UID:e.2288.19060
SEQUENCE:3
DTSTAMP:20260422T101148Z
URL:http://visitstl-gzcms.preview.gochambermaster.com/events/details/adirondack-white-out-weekend-02-14-2025-19060
END:VEVENT

END:VCALENDAR
