BEGIN:VCALENDAR
VERSION:2.0
PRODID:-//ChamberMaster//Event Calendar 2.0//EN
METHOD:PUBLISH
X-PUBLISHED-TTL:P3D
REFRESH-INTERVAL:P3D
CALSCALE:GREGORIAN
BEGIN:VEVENT
DTSTART;VALUE=DATE:20220702
DTEND;VALUE=DATE:20220704
TRANSP:TRANSPARENT
X-MICROSOFT-CDO-ALLDAYEVENT:TRUE
SUMMARY:Akwesasne Art Market & Juried Show
DESCRIPTION:The Akwesasne Travel will be hosting the first-ever Akwesasne Art Market & Juried Show. Akwesasne Travel aims to grow Akwesasne as a premier destination for Cultural Tourism\, where visitors can experience genuine connections to nature and culture through art.\n\n\n\nThe Akwesasne Art Market & Juried Show showcases and celebrates award-winning works crafted and created by local artisans. It's a place to visit\, explore\, shop and support Akwesasne artisans and crafters.
X-ALT-DESC;FMTTYPE=text/html:The Akwesasne Travel will be hosting the first-ever Akwesasne Art Market &amp\; Juried Show. Akwesasne Travel aims to grow Akwesasne as a premier destination for Cultural Tourism\, where visitors can experience genuine connections to nature and culture through art.<br />\n<br />\nThe Akwesasne Art Market &amp\; Juried Show showcases and celebrates award-winning works crafted and created by local artisans. It&#39\;s a place to visit\, explore\, shop and support Akwesasne artisans and crafters.&nbsp\;
LOCATION:Generations Park Grounds 545 NY-37 Hogansburg\, NY 13655
UID:e.2288.11118
SEQUENCE:3
DTSTAMP:20260420T220322Z
URL:http://visitstl-gzcms.preview.gochambermaster.com/events/details/akwesasne-art-market-juried-show-11118
END:VEVENT

END:VCALENDAR
