BEGIN:VCALENDAR
VERSION:2.0
PRODID:-//ChamberMaster//Event Calendar 2.0//EN
METHOD:PUBLISH
X-PUBLISHED-TTL:P3D
REFRESH-INTERVAL:P3D
CALSCALE:GREGORIAN
BEGIN:VEVENT
DTSTART:20220618T140000Z
DTEND:20220618T200000Z
X-MICROSOFT-CDO-ALLDAYEVENT:FALSE
SUMMARY:Alcoa Massena 120year celebration
DESCRIPTION:Alcoa is celebrating 120 years of operations in Massena! Presentation at 11:00a.m.\, Food\, Pop-up Museum\, Kids Activities\, Plant Tours. For plant tours\, the minimum age is 5\, not handicap accessible\, requires walking and closed to flat shoes only\, no pacemakers. Buses will transport to the designated areas in smelting\, electrode\, and casthouse. To register: https://forms.office.com/Pages/ResponsePage.aspx?id=ty6nN68f00md3GuSO3UbwJU4zuYJ0axAqH7c-PW8AUBUNlVDUEtUVFRXRlg3UEM2WUJSM1AwUDA3Si4u&qrcode=true
X-ALT-DESC;FMTTYPE=text/html:Alcoa is celebrating 120 years of operations in Massena! Presentation at 11:00a.m.\, Food\, Pop-up Museum\, Kids Activities\, Plant Tours. For plant tours\, the minimum age is 5\, not handicap accessible\, requires walking and closed to flat shoes only\, no pacemakers. Buses will transport to the designated areas in smelting\, electrode\, and casthouse. To register: https://forms.office.com/Pages/ResponsePage.aspx?id=ty6nN68f00md3GuSO3UbwJU4zuYJ0axAqH7c-PW8AUBUNlVDUEtUVFRXRlg3UEM2WUJSM1AwUDA3Si4u&amp\;qrcode=true
LOCATION:Alcoa Clubhouse in Massena
UID:e.2288.11115
SEQUENCE:3
DTSTAMP:20260420T185156Z
URL:http://visitstl-gzcms.preview.gochambermaster.com/events/details/alcoa-massena-120year-celebration-11115
END:VEVENT

END:VCALENDAR
