BEGIN:VCALENDAR
VERSION:2.0
PRODID:-//ChamberMaster//Event Calendar 2.0//EN
METHOD:PUBLISH
X-PUBLISHED-TTL:P3D
REFRESH-INTERVAL:P3D
CALSCALE:GREGORIAN
BEGIN:VEVENT
DTSTART:20210508T140000Z
DTEND:20210508T183000Z
X-MICROSOFT-CDO-ALLDAYEVENT:FALSE
SUMMARY:American Red Cross Blood Drive
DESCRIPTION:
X-ALT-DESC;FMTTYPE=text/html:
LOCATION:Grace Covenant Church\, 7 Laboda Lane in Ogdensburg.
UID:e.2288.10434
SEQUENCE:3
DTSTAMP:20260422T105041Z
URL:http://visitstl-gzcms.preview.gochambermaster.com/events/details/american-red-cross-blood-drive-10434
END:VEVENT

END:VCALENDAR
