BEGIN:VCALENDAR
VERSION:2.0
PRODID:-//ChamberMaster//Event Calendar 2.0//EN
METHOD:PUBLISH
X-PUBLISHED-TTL:P3D
REFRESH-INTERVAL:P3D
CALSCALE:GREGORIAN
BEGIN:VEVENT
DTSTART;VALUE=DATE:20190809
DTEND;VALUE=DATE:20190812
TRANSP:TRANSPARENT
X-MICROSOFT-CDO-ALLDAYEVENT:TRUE
SUMMARY:Annual City Wide Garage Sales- The Greater Ogdensburg Chamber of Commerce
DESCRIPTION:This is a great opportunity for you to clear out the clutter and make some extra money\, too! This is also a good way to make room for new school clothes or to pick up new school clothes for your family.   Think "green" and recycle those items that are just gathering dust in your home. \n\nThe Chamber will list your garage sale in our directory for $5   info shared in the directory are:  address of the sale\, dates and times and a brief summary of items in your sale.  Deadline to submit your info for the directory is Tuesday\, August 6th at 4 pm so the directory can be printed on time.  To request a directory form you can call the Chamber at 315-393-3620 or via email at chamber@gisco.net.
X-ALT-DESC;FMTTYPE=text/html:<span style="font-size:16px\;"><span style="font-family:arial\;">This is a great opportunity for you to clear out the clutter and make some extra money\, too! This is also a good way to make room for new school clothes or to pick up new school clothes for your family.&nbsp\; &nbsp\;Think &ldquo\;green&rdquo\; and recycle those items that are just gathering dust in your home.&nbsp\;<br />\nThe Chamber will list your garage sale in our directory for $5 &ndash\; info shared in the directory are:&nbsp\; address of the sale\, dates and times and a brief summary of items in your sale.&nbsp\; Deadline to submit your info for the directory is Tuesday\, August 6th at 4 pm so the directory can be printed on time.&nbsp\; To request a directory form you can call the Chamber at 315-393-3620 or via email at <a href="mailto:chamber@gisco.net">chamber@gisco.net</a>.</span></span>
LOCATION:
UID:e.2288.8215
SEQUENCE:3
DTSTAMP:20260425T160959Z
URL:http://visitstl-gzcms.preview.gochambermaster.com/events/details/annual-city-wide-garage-sales-the-greater-ogdensburg-chamber-of-commerce-8215
END:VEVENT

END:VCALENDAR
