BEGIN:VCALENDAR
VERSION:2.0
PRODID:-//ChamberMaster//Event Calendar 2.0//EN
METHOD:PUBLISH
X-PUBLISHED-TTL:P3D
REFRESH-INTERVAL:P3D
CALSCALE:GREGORIAN
BEGIN:VEVENT
DTSTART:20250823T140000Z
DTEND:20250823T200000Z
X-MICROSOFT-CDO-ALLDAYEVENT:FALSE
SUMMARY:Antiques in the Park
DESCRIPTION:Antiques in the Park\n\nHosted by: Gouverneur Hospital Auxiliary\n\nGouverneur Hospital Auxiliary will be hosting Antiques in the Park on Saturday\, August 23\, 2025 from 10:00 AM to 4:00 PM in the Village Park\, Main Street\, Gouverneur. There will be antique vendors\, a silent auction\, bake sale and raffles. For further information\, contact Kim Halpin at 315-287-1197 or ghauxiliary@yahoo.com. Information can be found at ghauxiliary.org. Rain or shine!
X-ALT-DESC;FMTTYPE=text/html:<span style="font-size:18px\;"><strong>Antiques in the Park</strong></span><br />\n<strong>Hosted by:&nbsp\;Gouverneur Hospital Auxiliary</strong><br />\nGouverneur Hospital Auxiliary will be hosting Antiques in the Park on Saturday\, August 23\, 2025 from 10:00 AM to 4:00 PM in the Village Park\, Main Street\, Gouverneur. There will be antique vendors\, a silent auction\, bake sale and raffles. For further information\, contact Kim Halpin at 315-287-1197 or ghauxiliary@yahoo.com. Information can be found at ghauxiliary.org. Rain or shine!
LOCATION:Village Park Main Street | Gouverneur\, NY 13642
UID:e.2288.20487
SEQUENCE:3
DTSTAMP:20260421T031406Z
URL:http://visitstl-gzcms.preview.gochambermaster.com/events/details/antiques-in-the-park-20487
END:VEVENT

END:VCALENDAR
