BEGIN:VCALENDAR
VERSION:2.0
PRODID:-//ChamberMaster//Event Calendar 2.0//EN
METHOD:PUBLISH
X-PUBLISHED-TTL:P3D
REFRESH-INTERVAL:P3D
CALSCALE:GREGORIAN
BEGIN:VEVENT
DTSTART:20190824T160000Z
DTEND:20190824T200000Z
X-MICROSOFT-CDO-ALLDAYEVENT:FALSE
SUMMARY:Appraisal Day
DESCRIPTION:Dust off your treasures and bring your favorite family heirloom to the Frederic Remington Art Museum for an appraisal. Iroquois Auctions will be hosting a charity appraisal event at the Frederic Remington Art Museum.Gerald Petro will appraise single items for $5 each at the Museum. For $200\, Petro will give a walk-through verbal appraisal in a home\, with all proceeds to benefit the Museum. When selling high value items\, people are asked to call (315) 561-9777 for consultation. Petro has worked as an appraiser for 43 years. For additional information\, contact the Museum at (315) 393-2425. At 1:00 PM attorney Marcy Robinson Dembs will give an informal talk on estate planning and philanthropy. This talk is free\, so bring an item for appraisal plan for both experiences in one visit.
X-ALT-DESC;FMTTYPE=text/html:Dust off your treasures and bring your favorite family heirloom to the Frederic Remington Art Museum for an appraisal. Iroquois Auctions will be hosting a charity appraisal event at the Frederic Remington Art Museum.Gerald Petro will appraise single items for $5 each at the Museum. For $200\, Petro will give a walk-through verbal appraisal in a home\, with all proceeds to benefit the Museum. When selling high value items\, people are asked to call (315) 561-9777 for consultation. Petro has worked as an appraiser for 43 years. For additional information\, contact the Museum at (315) 393-2425. At 1:00 PM attorney Marcy Robinson Dembs will give an informal talk on estate planning and philanthropy. This talk is free\, so bring an item for appraisal plan for both experiences in one visit.
LOCATION:Frederic Remington Art Museum 303 Washington Street Ogdensburg\, NY 13669
UID:e.2288.8164
SEQUENCE:3
DTSTAMP:20260425T173035Z
URL:http://visitstl-gzcms.preview.gochambermaster.com/events/details/appraisal-day-08-24-2019-8164
END:VEVENT

END:VCALENDAR
