BEGIN:VCALENDAR
VERSION:2.0
PRODID:-//ChamberMaster//Event Calendar 2.0//EN
METHOD:PUBLISH
X-PUBLISHED-TTL:P3D
REFRESH-INTERVAL:P3D
CALSCALE:GREGORIAN
BEGIN:VEVENT
DTSTART:20190715T160000Z
DTEND:20190728T160000Z
X-MICROSOFT-CDO-ALLDAYEVENT:FALSE
SUMMARY:Artist in Residence
DESCRIPTION:Rich Fedorchak will be on site\, providing demonstrations of his process and discussing his work on display in the Hirschey Gallery. There will be a public screening of select short\, experimental films followed by an artist's talk on Tuesday\, July 16 at 7 PM. Rich will curate an exhibition of Remington's works to be displayed in the Addie Priest Newell Gallery\, opening on July 25 with a talk by the curator at 4:30 PM. To complement Seaway Festival\, Rich will offer an Art Collage Button Workshop on Friday\, July 19 from 10 AM to noon.
X-ALT-DESC;FMTTYPE=text/html:Rich Fedorchak will be on site\, providing demonstrations of his process and discussing his work on display in the Hirschey Gallery. There will be a public screening of select short\, experimental films followed by an artist&rsquo\;s talk on Tuesday\, July 16 at 7 PM. Rich will curate an exhibition of Remington&rsquo\;s works to be displayed in the Addie Priest Newell Gallery\, opening on July 25 with a talk by the curator at 4:30 PM. To complement Seaway Festival\, Rich will offer an Art Collage Button Workshop on Friday\, July 19 from 10 AM to noon.
LOCATION:Frederic Remington Art Museum 303 Washington Street Ogdensburg\, NY 13669
UID:e.2288.8157
SEQUENCE:3
DTSTAMP:20260425T213710Z
URL:http://visitstl-gzcms.preview.gochambermaster.com/events/details/artist-in-residence-07-15-2019-8157
END:VEVENT

END:VCALENDAR
