BEGIN:VCALENDAR
VERSION:2.0
PRODID:-//ChamberMaster//Event Calendar 2.0//EN
METHOD:PUBLISH
X-PUBLISHED-TTL:P3D
REFRESH-INTERVAL:P3D
CALSCALE:GREGORIAN
BEGIN:VEVENT
DTSTART:20251024T140000Z
DTEND:20251024T160000Z
X-MICROSOFT-CDO-ALLDAYEVENT:FALSE
SUMMARY:Author Talk with Tracey Lange: What Happened to the McCrays?
DESCRIPTION:Author Talk with Tracey Lange: What Happened to the McCrays?\n\n\n\nMassena Public Library Author Visit\, Tracey Lange\, will discuss her novel "What Happened to the McCrays?"\, set in Potsdam\, NY.
X-ALT-DESC;FMTTYPE=text/html:<strong>Author Talk with Tracey Lange: What Happened to the McCrays?</strong><br />\n<br />\nMassena Public Library Author Visit\, Tracey Lange\, will discuss her novel &quot\;What Happened to the McCrays?&quot\;\, set in Potsdam\, NY.
LOCATION:Massena Public Library 41 Glenn St. | Massena\, NY 13662
UID:e.2288.20602
SEQUENCE:3
DTSTAMP:20260420T164315Z
URL:http://visitstl-gzcms.preview.gochambermaster.com/events/details/author-talk-with-tracey-lange-what-happened-to-the-mccrays-20602
END:VEVENT

END:VCALENDAR
