BEGIN:VCALENDAR
VERSION:2.0
PRODID:-//ChamberMaster//Event Calendar 2.0//EN
METHOD:PUBLISH
X-PUBLISHED-TTL:P3D
REFRESH-INTERVAL:P3D
CALSCALE:GREGORIAN
BEGIN:VEVENT
DTSTART:20210808T190000Z
DTEND:20210808T210000Z
X-MICROSOFT-CDO-ALLDAYEVENT:FALSE
SUMMARY:Back to Broadway Summer Cabaret
DESCRIPTION:Free public outdoor concert Please bring your own chairs Free refreshments starting at 2:00 Concert starts at 3:00 Free gift bag for first 90 children 50/50 raffle and Commemorative T-shirts for sale all proceeds will be used to sustain the future of summer performances Location Between Sara M. Snell Music Theater and the Performing Arts Center Parking in Lot 6 Covid precautions: If you are not vaccinated\, please wear a mask. Contact: Email cps@cpspotsdam.org Phone 315-267-2277 Website https://cpspotsdam.org
X-ALT-DESC;FMTTYPE=text/html:Free public outdoor concert Please bring your own chairs Free refreshments starting at 2:00 Concert starts at 3:00 Free gift bag for first 90 children 50/50 raffle and Commemorative T-shirts for sale all proceeds will be used to sustain the future of summer performances Location Between Sara M. Snell Music Theater and the Performing Arts Center Parking in Lot 6 Covid precautions: If you are not vaccinated\, please wear a mask. Contact: Email cps@cpspotsdam.org Phone 315-267-2277 Website https://cpspotsdam.org
LOCATION:Between Sara M. Snell Music Theater and the Performing Arts Center
UID:e.2288.10557
SEQUENCE:3
DTSTAMP:20260422T035009Z
URL:http://visitstl-gzcms.preview.gochambermaster.com/events/details/back-to-broadway-summer-cabaret-10557
END:VEVENT

END:VCALENDAR
