BEGIN:VCALENDAR
VERSION:2.0
PRODID:-//ChamberMaster//Event Calendar 2.0//EN
METHOD:PUBLISH
X-PUBLISHED-TTL:P3D
REFRESH-INTERVAL:P3D
CALSCALE:GREGORIAN
BEGIN:VEVENT
DTSTART:20211009T130000Z
DTEND:20211009T210000Z
X-MICROSOFT-CDO-ALLDAYEVENT:FALSE
SUMMARY:Basket Weaving Class at the Gallery at Lake Saint Lawrence Arts
DESCRIPTION:There is a choice of "Serenity" or "Seasonal Bowl" baskets. Please select one prior to class to allow for materials to be available.\n\n\n\n"Serenity" was designed for new cotton cord weavers using cotton cord in a simple repeat pattern.\n\n\n\n"Seasonal Bowl" has a little more pattern and is woven with cotton cord and has a seasonal ribbon accent.\n\n\n\nLinda will show the techniques used so you can weave more at home. A variety of kits will be available for additional purchase.\n\n\n\nRegister here
X-ALT-DESC;FMTTYPE=text/html:There is a choice of &ldquo\;Serenity&rdquo\; or &ldquo\;Seasonal Bowl&rdquo\; baskets. Please select one prior to class to allow for materials to be available.<br />\n<br />\n&ldquo\;Serenity&rdquo\; was designed for new cotton cord weavers using cotton cord in a simple repeat pattern.<br />\n<br />\n&ldquo\;Seasonal Bowl&rdquo\; has a little more pattern and is woven with cotton cord and has a seasonal ribbon accent.<br />\n<br />\nLinda will show the techniques used so you can weave more at home. A variety of kits will be available for additional purchase.<br />\n<br />\n<span style="font-size:20px\;">Register</span><strong><span style="font-size:20px\;"> <span style="font-size:24px\;"><a href="https://www.lakestlawrencearts.com/classes2.html">here</a></span></span></strong>
LOCATION:Old Town Hall\, corner of St. Rt. 37 and Main St.\, Waddington\, NY.
UID:e.2288.10784
SEQUENCE:3
DTSTAMP:20260421T195557Z
URL:http://visitstl-gzcms.preview.gochambermaster.com/events/details/basket-weaving-class-at-the-gallery-at-lake-saint-lawrence-arts-10784
END:VEVENT

END:VCALENDAR
