BEGIN:VCALENDAR
VERSION:2.0
PRODID:-//ChamberMaster//Event Calendar 2.0//EN
METHOD:PUBLISH
X-PUBLISHED-TTL:P3D
REFRESH-INTERVAL:P3D
CALSCALE:GREGORIAN
BEGIN:VEVENT
DTSTART:20260313T180000Z
DTEND:20260313T220000Z
X-MICROSOFT-CDO-ALLDAYEVENT:FALSE
SUMMARY:Beetlejuice\, Jr auditions
DESCRIPTION:Beetlejuice\, Jr auditions\n\nLead role auditions for Beetlejuice\, Jr.  March 13\, 14/ and 21 2-6 p.m.\;\n\nSecondary role auditions: March 28-29\; 2-6 p.m.\n\nRehearsals begin in June. Performances in Massena August 21/22/23.\n\nStudents grades 3-10 welcome to audition. Registration fee: $25\n\nALL STUDENTS WILL BE INCLUDED IN THE PRODUCTION\n\nAuditions held at 7238 State Highway 56\, Norwood
X-ALT-DESC;FMTTYPE=text/html:<span style="font-size:18px\;"><span style="color:#008000\;">Beetlejuice\, Jr auditions</span></span><br />\nLead role auditions for Beetlejuice\, Jr. &nbsp\;March 13\, 14/ and 21 2-6 p.m.\;<br />\nSecondary role auditions: March 28-29\; 2-6 p.m.<br />\nRehearsals begin in June. Performances in Massena August 21/22/23.<br />\nStudents grades 3-10 welcome to audition. Registration fee: $25<br />\nALL STUDENTS WILL BE INCLUDED IN THE PRODUCTION<br />\nAuditions held at 7238 State Highway 56\, Norwood<br />\n&nbsp\;
LOCATION:7238 state highway 56\, Norwood\, NY
UID:e.2288.20748
SEQUENCE:3
DTSTAMP:20260420T064313Z
URL:http://visitstl-gzcms.preview.gochambermaster.com/events/details/beetlejuice-jr-auditions-20748
END:VEVENT

END:VCALENDAR
