BEGIN:VCALENDAR
VERSION:2.0
PRODID:-//ChamberMaster//Event Calendar 2.0//EN
METHOD:PUBLISH
X-PUBLISHED-TTL:P3D
REFRESH-INTERVAL:P3D
CALSCALE:GREGORIAN
BEGIN:VEVENT
DTSTART:20260328T161500Z
DTEND:20260329T220000Z
X-MICROSOFT-CDO-ALLDAYEVENT:FALSE
SUMMARY:Beetlejuice Jr secondary roles auditions
DESCRIPTION:Beetlejuice Jr secondary roles auditions\n\nNorfolk Concert Series kids summer music theater will present Beetlejuice Jr.  on August 21- 23. Rehearsals begin in June and will be held primarily on weekends and evenings.
X-ALT-DESC;FMTTYPE=text/html:<span style="color:#00FF00\;"><span style="font-size:18px\;">Beetlejuice Jr secondary roles auditions</span></span><br />\nNorfolk Concert Series kids summer music theater will present Beetlejuice Jr. &nbsp\;on August 21- 23. Rehearsals begin in June and will be held primarily on weekends and evenings. &nbsp\;
LOCATION:7238 state highway 56 Norwood\, NY 13668
UID:e.2288.20734
SEQUENCE:3
DTSTAMP:20260420T050103Z
URL:http://visitstl-gzcms.preview.gochambermaster.com/events/details/beetlejuice-jr-secondary-roles-auditions-20734
END:VEVENT

END:VCALENDAR
