BEGIN:VCALENDAR
VERSION:2.0
PRODID:-//ChamberMaster//Event Calendar 2.0//EN
METHOD:PUBLISH
X-PUBLISHED-TTL:P3D
REFRESH-INTERVAL:P3D
CALSCALE:GREGORIAN
BEGIN:VEVENT
DTSTART:20210607T220000Z
DTEND:20210608T010000Z
X-MICROSOFT-CDO-ALLDAYEVENT:FALSE
SUMMARY:Beginner Microsoft Word Training
DESCRIPTION:OBJECTIVES\n\nEntering text in a document\n\nChecking spelling as you type\n\nUsing Cut\, Copy and Paste\n\nFormatting paragraphs\n\nFormat Text\n\nUndo and Redo Commands\n\nChange Theme colors\n\nInserting a digital image in Word document\n\nFormatting a picture\n\nAdding a page border\n\nPrinting a document\n\nChange Line and paragraph spacing\n\nModify Styles\n\nUsing headers to number pages\n\nABOUT OUR INSTRUCTOR\n\nMs. Tina Groff\, Certified Microsoft Instructor\n\nThank you Jefferson-Lewis BOCES for allowing Ms. Tina Groff to be our Instructor for this course. \n\nClick For REGISTRATION\n\nRegister for this course by adding to the cart and checking out. If you have questions\, please contact Natasha Gamble.\n\nOnce you register\, you will receive an emailed Google Meets Link from Natasha Gamble.\n\n**REGISTRATION CLOSES WEDNESDAY\, June 3\, 2021 AT 10AM EST   or when at full capacity.
X-ALT-DESC;FMTTYPE=text/html:<p style="box-sizing: border-box\; outline: none\; margin-top: 0px\; margin-bottom: 1rem\; font-family: Raleway\, sans-serif\; font-size: 16px\; background-color: rgb(255\, 255\, 255)\;"><span style="box-sizing: border-box\; outline: none\; font-weight: bolder\;">OBJECTIVES</span></p>\n\n<p style="box-sizing: border-box\; outline: none\; margin-top: 0px\; margin-bottom: 1rem\; font-family: Raleway\, sans-serif\; font-size: 16px\; background-color: rgb(255\, 255\, 255)\;">Entering text in a document<br style="box-sizing: border-box\; outline: none\;" />\nChecking spelling as you type<br style="box-sizing: border-box\; outline: none\;" />\nUsing Cut\, Copy and Paste<br style="box-sizing: border-box\; outline: none\;" />\nFormatting paragraphs<br style="box-sizing: border-box\; outline: none\;" />\nFormat Text<br style="box-sizing: border-box\; outline: none\;" />\nUndo and Redo Commands<br style="box-sizing: border-box\; outline: none\;" />\nChange Theme colors<br style="box-sizing: border-box\; outline: none\;" />\nInserting a digital image in Word document<br style="box-sizing: border-box\; outline: none\;" />\nFormatting a picture<br style="box-sizing: border-box\; outline: none\;" />\nAdding a page border<br style="box-sizing: border-box\; outline: none\;" />\nPrinting a document<br style="box-sizing: border-box\; outline: none\;" />\nChange Line and paragraph spacing<br style="box-sizing: border-box\; outline: none\;" />\nModify Styles<br style="box-sizing: border-box\; outline: none\;" />\nUsing headers to number pages</p>\n\n<p style="box-sizing: border-box\; outline: none\; margin-top: 0px\; margin-bottom: 1rem\; font-family: Raleway\, sans-serif\; font-size: 16px\; background-color: rgb(255\, 255\, 255)\;"><span style="box-sizing: border-box\; outline: none\; font-weight: bolder\;">ABOUT OUR INSTRUCTOR</span></p>\n\n<p style="box-sizing: border-box\; outline: none\; margin-top: 0px\; margin-bottom: 1rem\; font-family: Raleway\, sans-serif\; font-size: 16px\; background-color: rgb(255\, 255\, 255)\;">Ms. Tina Groff\, Certified Microsoft Instructor</p>\n\n<p style="box-sizing: border-box\; outline: none\; margin-top: 0px\; margin-bottom: 1rem\; font-family: Raleway\, sans-serif\; font-size: 16px\; background-color: rgb(255\, 255\, 255)\;"><em style="box-sizing: border-box\; outline: none\;">Thank you Jefferson-Lewis BOCES for allowing Ms. Tina Groff to be our Instructor for this course.&nbsp\;</em></p>\n\n<p style="box-sizing: border-box\; outline: none\; margin-top: 0px\; margin-bottom: 1rem\; font-family: Raleway\, sans-serif\; font-size: 16px\; background-color: rgb(255\, 255\, 255)\;">Click For&nbsp\;<a href="https://www.unitedway-nny.org/product/beginner-microsoft-word-trainingjune-7-2021/"><span style="box-sizing: border-box\; outline: none\; font-weight: bolder\;">REGISTRATION</span></a></p>\n\n<p style="box-sizing: border-box\; outline: none\; margin-top: 0px\; margin-bottom: 1rem\; font-family: Raleway\, sans-serif\; font-size: 16px\; background-color: rgb(255\, 255\, 255)\;">Register for this course by adding to the cart and checking out. If you have questions\, please contact&nbsp\;<a href="mailto:natasha.gamble@unitedway-nny.org?Subject=North%20Country%20Center%20of%20Nonprofit%20Excellence" style="box-sizing: border-box\; outline: none\; color: rgb(205\, 38\, 83)\; text-decoration-line: none\; background-color: transparent\; transition: all 0.4s ease-in-out 0s\;">Natasha Gamble</a>.</p>\n\n<p style="box-sizing: border-box\; outline: none\; margin-top: 0px\; margin-bottom: 1rem\; font-family: Raleway\, sans-serif\; font-size: 16px\; background-color: rgb(255\, 255\, 255)\;"><span style="box-sizing: border-box\; outline: none\; color: rgb(255\, 0\, 0)\;">Once you register\, you will receive an emailed Google Meets Link from Natasha Gamble.</span></p>\n\n<p style="box-sizing: border-box\; outline: none\; margin-top: 0px\; margin-bottom: 1rem\; font-family: Raleway\, sans-serif\; font-size: 16px\; background-color: rgb(255\, 255\, 255)\;">**REGISTRATION CLOSES WEDNESDAY\, June 3\, 2021 AT 10AM EST &ndash\; or when at full capacity.</p>\n
LOCATION:Virtual via Google Meets
UID:e.2288.10373
SEQUENCE:3
DTSTAMP:20260422T065759Z
URL:http://visitstl-gzcms.preview.gochambermaster.com/events/details/beginner-microsoft-word-training-10373
END:VEVENT

END:VCALENDAR
