BEGIN:VCALENDAR
VERSION:2.0
PRODID:-//ChamberMaster//Event Calendar 2.0//EN
METHOD:PUBLISH
X-PUBLISHED-TTL:P3D
REFRESH-INTERVAL:P3D
CALSCALE:GREGORIAN
BEGIN:VEVENT
DTSTART:20240224T110000Z
DTEND:20240224T210000Z
X-MICROSOFT-CDO-ALLDAYEVENT:FALSE
SUMMARY:Black Lake Ice Fishing Derby
DESCRIPTION:BLACK LAKE ICE FISHING DERBY\n\nRESCHEUDLED DATE\n\nThe Black Lake Ice Fishing Derby will be held Saturday\, February 24\, 2024\, from 6:00am to 4:00pm\, sponsored by the Black lake Fish & Game Association. A $100 cash giveaway will be awarded every hour\, donated by the Black Lake Chamber of Commerce. NOTE: This event has been rescheduled from the original date of January 27 due to ice conditions.\n\n\n\nIce Fishing will be held and restricted to Black Lake and is Catch N' Release only. Weigh In Stations will be at the Black Lake Marina and Roll-A-Way Bay. Prize to include:\n\n\n\nBlack Lake Marine\n\n	$500 Biggest Pike ADULT\n	$250 Biggest Pike KIDS\n	$150 Biggest Panfish ADULT\n	$100 Biggest Panfish KIDS\n	$100 Biggest Dog Fish (Bonus Entry)\n\nWeigh In Station at Roll-A-Way Bay\n\n\n	$500 Biggest Pike ADULT\n	$250 Biggest Pike KIDS\n	$150 Biggest Panfish ADULT\n	$100 Biggest Panfish KIDS\n	$100 Biggest Walleye (Bonus Entry)\n\nAll fish entered must be legal length. Panfish include crappie\, perch and bluegill. Dogfish and walleye are bonus fish\, so you can enter one event if you've entered another fish.\n\n\n\nTo sign-up\, pre-register online www.BLFGA.org\; Friday night 6-9 p.m. at the new clubhouse\, or register on Derby Day at the weigh stations. \n\n\n\nRaffle Tickets | Sold at: Morristown Fuel & Echoes on The Lake\n\nDonations: $5 ea.\, 3 for $10\, or 7 for $20. Winner must be present to win. \n\n\n	1st Place: Winners Chose of: Ruger American 6.5 Creedmoor\, .270\, 7mm 08\, .308 or $500 CASH\n	2nd Place: Grizzley Cooler - 60 quart\, Bella Brooke Wine\n	3rd Place: Lifetime Membership to the BLFGA\n\nProceeds of the Derby go directly to promoting The Black Lake Fish & Game Association outdoor education programs for the community and kids.
X-ALT-DESC;FMTTYPE=text/html:<span style="font-size:20px\;"><strong>BLACK LAKE ICE FISHING DERBY</strong><br />\nRESCHEUDLED DATE</span><br />\nThe Black Lake Ice Fishing Derby will be held Saturday\, February 24\, 2024\, from 6:00am to 4:00pm\, sponsored by the Black lake Fish &amp\; Game Association. A $100 cash giveaway will be awarded every hour\, donated by the Black Lake Chamber of Commerce. <em>NOTE: This event has been rescheduled from the original date of January 27 due to ice conditions.</em><br />\n<br />\n<strong>Ice Fishing will be held and restricted to Black Lake and is Catch N&#39\; Release only. Weigh In Stations will be at the Black Lake Marina and Roll-A-Way Bay. Prize to include:</strong><br />\n<br />\n<strong>Black Lake Marine</strong>\n<ul>\n	<li>$500 Biggest Pike ADULT</li>\n	<li>$250 Biggest Pike KIDS</li>\n	<li>$150 Biggest Panfish ADULT</li>\n	<li>$100 Biggest Panfish KIDS</li>\n	<li>$100 Biggest Dog Fish (Bonus Entry)</li>\n</ul>\n<strong>Weigh In Station at Roll-A-Way Bay</strong>\n\n<ul>\n	<li>$500 Biggest Pike ADULT</li>\n	<li>$250 Biggest Pike KIDS</li>\n	<li>$150 Biggest Panfish ADULT</li>\n	<li>$100 Biggest Panfish KIDS</li>\n	<li>$100 Biggest Walleye (Bonus Entry)</li>\n</ul>\n<strong>All fish entered must be legal length. Panfish include crappie\, perch and bluegill. Dogfish and walleye are bonus fish\, so you can enter one event if you&#39\;ve entered another fish.</strong><br />\n<br />\n<strong>To sign-up\, pre-register online <a href="http://www.BLFGA.org" target="_blank">www.BLFGA.org</a>\; Friday night 6-9 p.m. at the new clubhouse\, or register on Derby Day at the weigh stations.&nbsp\;</strong><br />\n<br />\n<strong>Raffle Tickets | Sold at: Morristown Fuel &amp\; Echoes on The Lake<br />\n<strong>Donations: $5 ea.\, 3 for $10\, or 7 for $20. Winner must be present to win.</strong></strong>&#8203\;\n\n<ul>\n	<li>1st Place: Winners Chose of: Ruger American 6.5 Creedmoor\, .270\, 7mm 08\, .308 or $500 CASH</li>\n	<li>2nd Place: Grizzley Cooler - 60 quart\, Bella Brooke Wine</li>\n	<li>3rd Place: Lifetime Membership to the BLFGA</li>\n</ul>\n<strong>Proceeds of the Derby go directly to promoting The Black Lake Fish &amp\; Game Association outdoor education programs for the community and kids.&nbsp\;</strong>
LOCATION:Black Lake\, NY
UID:e.2288.16680
SEQUENCE:3
DTSTAMP:20260422T085908Z
URL:http://visitstl-gzcms.preview.gochambermaster.com/events/details/black-lake-ice-fishing-derby-16680
END:VEVENT

END:VCALENDAR
