BEGIN:VCALENDAR
VERSION:2.0
PRODID:-//ChamberMaster//Event Calendar 2.0//EN
METHOD:PUBLISH
X-PUBLISHED-TTL:P3D
REFRESH-INTERVAL:P3D
CALSCALE:GREGORIAN
BEGIN:VEVENT
DTSTART:20251018T140000Z
DTEND:20251018T170000Z
X-MICROSOFT-CDO-ALLDAYEVENT:FALSE
SUMMARY:Blue Sky Watercolor Class
DESCRIPTION:Blue Sky Watercolor Class\n\nCorrina Boyer demonstrates using wet-on-wet blending\, layering washes and free flowing watercolor to create a dreamy\, relaxing\, abstract landscape. All materials provided. Must pre-register at www.lakestlawrencearts.com\; email lakesaintlawrencearts@gmail.com or call 315-705-1241.
X-ALT-DESC;FMTTYPE=text/html:<span style="font-size:18px\;"><strong>Blue Sky Watercolor Class</strong></span><br />\nCorrina Boyer demonstrates using wet-on-wet blending\, layering washes and free flowing watercolor to create a dreamy\, relaxing\, abstract landscape. All materials provided. Must pre-register at www.lakestlawrencearts.com\; email lakesaintlawrencearts@gmail.com or call 315-705-1241.
LOCATION:The Gallery at Lake Saint Lawrence Arts 14 Main Street | Waddington\, NY
UID:e.2288.20615
SEQUENCE:3
DTSTAMP:20260421T013732Z
URL:http://visitstl-gzcms.preview.gochambermaster.com/events/details/blue-sky-watercolor-class-20615
END:VEVENT

END:VCALENDAR
