BEGIN:VCALENDAR
VERSION:2.0
PRODID:-//ChamberMaster//Event Calendar 2.0//EN
METHOD:PUBLISH
X-PUBLISHED-TTL:P3D
REFRESH-INTERVAL:P3D
CALSCALE:GREGORIAN
BEGIN:VEVENT
DTSTART:20231027T230000Z
DTEND:20231028T020000Z
X-MICROSOFT-CDO-ALLDAYEVENT:FALSE
SUMMARY:Breezy Maples Farm After Dark
DESCRIPTION:BREEZY MAPLES FARM AFTER DARK\n\nFEAT. THE FOREST OF FRIGHTS\n\nBreezy Maples Farm "After Dark" featuring THE FOREST OF FRIGHTS woods scare trail with live scare actors\, spine tingling effects\, and bone chilling jumps around every bend in the path. $15 admission also includes Just for Fun Wagon Rides\, the Flashlight Corn Maze\, a lighted Spooky Trail (great for young'ins)\, campfires\, farm animals\, and other fun Halloween ambience.\n\n\n\nA one-of-a-kind experience unlike any other event in the North Country.  Food Vendors\, Gift Shop\, loads and loads of pumpkins for sale!\n\n\n\nNote: Event is weather sensitive. Any change in the schedule will be posted on the Breezy Maples Farm Facebook page. Lines will cut off at 10:00 PM.
X-ALT-DESC;FMTTYPE=text/html:<span style="color:#FF8C00\;"><span style="font-size:20px\;"><strong>BREEZY MAPLES FARM AFTER DARK</strong><br />\nFEAT. THE FOREST OF FRIGHTS</span></span><br />\nBreezy Maples Farm &quot\;After Dark&quot\; featuring THE FOREST OF FRIGHTS woods scare trail with live scare actors\, spine tingling effects\, and bone chilling jumps around every bend in the path. $15 admission also includes Just for Fun Wagon Rides\, the Flashlight Corn Maze\, a lighted Spooky Trail (great for young&#39\;ins)\, campfires\, farm animals\, and other fun Halloween ambience.<br />\n<br />\nA one-of-a-kind experience unlike any other event in the North Country. &nbsp\;Food Vendors\, Gift Shop\, loads and loads of pumpkins for sale!<br />\n<br />\nNote: Event is weather sensitive. Any change in the schedule will be posted on the&nbsp\;<a href="https://www.facebook.com/events/2428385910884448/2428385924217780/?active_tab=about" target="_blank">Breezy Maples Farm Facebook page</a>. Lines will cut off at 10:00 PM.
LOCATION:Breezy Maples Farm 331 Willard Road Massena\, NY
UID:e.2288.15405
SEQUENCE:3
DTSTAMP:20260422T121702Z
URL:http://visitstl-gzcms.preview.gochambermaster.com/events/details/breezy-maples-farm-after-dark-10-27-2023-15405
END:VEVENT

END:VCALENDAR
