BEGIN:VCALENDAR
VERSION:2.0
PRODID:-//ChamberMaster//Event Calendar 2.0//EN
METHOD:PUBLISH
X-PUBLISHED-TTL:P3D
REFRESH-INTERVAL:P3D
CALSCALE:GREGORIAN
BEGIN:VEVENT
DTSTART:20250302T160000Z
DTEND:20250302T190000Z
X-MICROSOFT-CDO-ALLDAYEVENT:FALSE
SUMMARY:Bridal Expo
DESCRIPTION:Bridal Expo\n\nThe Best Western University Inn (Canton\, NY) will be hosting the 23rd Annual Bridal Expo on Sunday\, March 2nd from 11am - 2pm. Visit with the top wedding professionals all under one roof! From fashion and music to catering and decor\, the expo will have everything you need to begin planning your dream wedding!
X-ALT-DESC;FMTTYPE=text/html:<span style="font-size:20px"><strong>Bridal Expo</strong></span><br />\nThe Best Western University Inn (Canton\, NY) will be hosting the 23rd Annual Bridal Expo on Sunday\, March 2nd from 11am - 2pm. Visit with the top wedding professionals all under one roof! From fashion and music to catering and decor\, the expo will have everything you need to begin planning your dream wedding!
LOCATION:Conference Center in the Best Western University Inn 90 E Main Street Canton\, NY
UID:e.2288.19066
SEQUENCE:3
DTSTAMP:20260421T201553Z
URL:http://visitstl-gzcms.preview.gochambermaster.com/events/details/bridal-expo-03-02-2025-19066
END:VEVENT

END:VCALENDAR
