BEGIN:VCALENDAR
VERSION:2.0
PRODID:-//ChamberMaster//Event Calendar 2.0//EN
METHOD:PUBLISH
X-PUBLISHED-TTL:P3D
REFRESH-INTERVAL:P3D
CALSCALE:GREGORIAN
BEGIN:VEVENT
DTSTART:20231007T140000Z
DTEND:20231007T160000Z
X-MICROSOFT-CDO-ALLDAYEVENT:FALSE
SUMMARY:Brown Bear Ramble Kickoff
DESCRIPTION:Brown Bear Ramble Kickoff\n\nThe Canton Free Library invites families to help celebrate the launch of the Brown Bear Ramble scavenger hunt experience\, a permanent sculpture trail in downtown Canton. Beginning promptly at 10:00am on Saturday\, October 7th in the Canton Village Park\, the Brown Bear Ramble will begin with a reading of the iconic story "Brown Bear\, Brown Bear\, What Do You See?" by Bill Martin Jr. and Eric Carle\, as well as the singing of the Brown Bear Rap. Following the reading of the story\, the park will be filled with crafts and activities presented by SUNY Canton Early Childhood education students and Dr. Maureen Maicco. Other activities include face painting by K&M Face Painting\, have your picture taken with the Brown Bear\, and using the map\, explore and find the bronze statues located throughout the Village! Children will receive gift bags for participation and prizes for finding all 11 sculptures.\n\n\n\nWhile you ramble down Main Street\, visit the TAUNY Center to view an exhibit showcasing the process of sculpting and casting the bronze statues. From 12:00pm-4:00pm\, you can learn about a variety of metal arts through interactive demonstrations by artists.\n\n\n\nAnytime between 10:00am - 4:00pm\, visit the St. Lawrence County Historical Association to enjoy an exhibit of metal artifacts and learn about the history of metalwork in our region.\n\n\n\nStatues installed throughout the downtown Canton area may be found at the following locations:\n\n\n	Canton Free Library\n	Canton American Movie Theatre\n	County Courthouse\n	Canton Historian's New Office\n	Canton Village Park\n	Canton Municipal Building\n	Court Street Park\n	Rushton Memorial outside the Gray building\n	Samual L. Wright House\n	St. Lawrence County Chamber of Commerce office\n	TAUNY
X-ALT-DESC;FMTTYPE=text/html:<p><strong><span style="font-size:20px\;">Brown Bear Ramble Kickoff</span></strong><br />\nThe Canton Free Library invites families to help celebrate the launch of the Brown Bear Ramble scavenger hunt experience\, a permanent sculpture trail in downtown Canton. Beginning promptly at 10:00am on Saturday\, October 7th in the Canton Village Park\, the Brown Bear Ramble will begin with a reading of the iconic story <em>&quot\;Brown Bear\, Brown Bear\, What Do You See?</em>&quot\; <em>by Bill Martin Jr. and Eric Carle</em>\, as well as the singing of the Brown Bear Rap. Following the reading of the story\, the park will be filled with crafts and activities presented by SUNY Canton Early Childhood education students and Dr. Maureen Maicco. Other activities include face painting by K&amp\;M Face Painting\, have your picture taken with the Brown Bear\, and using the map\, explore and find the bronze statues located throughout the Village! Children will receive gift bags for participation and prizes for finding all 11 sculptures.<br />\n<br />\nWhile you ramble down Main Street\, visit the TAUNY Center to view an exhibit showcasing the process of sculpting and casting the bronze statues. From 12:00pm-4:00pm\, you can learn about a variety of metal arts through interactive demonstrations by artists.<br />\n<br />\nAnytime between 10:00am - 4:00pm\, visit the St. Lawrence County Historical Association to enjoy an exhibit of metal artifacts and learn about the history of metalwork in our region.<br />\n<br />\nStatues installed throughout the downtown Canton area may be found at the following locations:</p>\n\n<ul>\n	<li>Canton Free Library</li>\n	<li>Canton American Movie Theatre</li>\n	<li>County Courthouse</li>\n	<li>Canton Historian&rsquo\;s New Office</li>\n	<li>Canton Village Park</li>\n	<li>Canton Municipal Building</li>\n	<li>Court Street Park</li>\n	<li>Rushton Memorial outside the Gray building</li>\n	<li>Samual L. Wright House</li>\n	<li>St. Lawrence County Chamber of Commerce office</li>\n	<li>TAUNY</li>\n</ul>\n
LOCATION:Canton Village Park: Park Place\, Canton Rain Location: Canton Free Library: 8 Park Street Traditional Art in Upstate NY (TAUNY): 53 Main Street St. Lawrence Historical Association (SLHA): 3 Main Street
UID:e.2288.14255
SEQUENCE:3
DTSTAMP:20260422T173234Z
URL:http://visitstl-gzcms.preview.gochambermaster.com/events/details/brown-bear-ramble-kickoff-14255
END:VEVENT

END:VCALENDAR
