BEGIN:VCALENDAR
VERSION:2.0
PRODID:-//ChamberMaster//Event Calendar 2.0//EN
METHOD:PUBLISH
X-PUBLISHED-TTL:P3D
REFRESH-INTERVAL:P3D
CALSCALE:GREGORIAN
BEGIN:VEVENT
DTSTART:20260129T230000Z
DTEND:20260213T003000Z
X-MICROSOFT-CDO-ALLDAYEVENT:FALSE
SUMMARY:Building a Business Basics - Webinar Series
DESCRIPTION:Building a Business Basics - Thursdays 6 - 7:30 pm Session 1: 1/29/26- Business Considerations (Entity Structures\, DBAs\, Risk Management) Session 2: 2/5/26- Finances\, Accounting\, and Recordkeeping Session 3: 2/12/26- Developing a Business Plan
X-ALT-DESC;FMTTYPE=text/html:Building a Business Basics - Thursdays 6 - 7:30 pm Session 1: 1/29/26- Business Considerations (Entity Structures\, DBAs\, Risk Management) Session 2: 2/5/26- Finances\, Accounting\, and Recordkeeping Session 3: 2/12/26- Developing a Business Plan
LOCATION:Online
UID:e.2288.20687
SEQUENCE:3
DTSTAMP:20260420T064713Z
URL:http://visitstl-gzcms.preview.gochambermaster.com/events/details/building-a-business-basics-webinar-series-20687
END:VEVENT

END:VCALENDAR
