BEGIN:VCALENDAR
VERSION:2.0
PRODID:-//ChamberMaster//Event Calendar 2.0//EN
METHOD:PUBLISH
X-PUBLISHED-TTL:P3D
REFRESH-INTERVAL:P3D
CALSCALE:GREGORIAN
BEGIN:VEVENT
DTSTART:20240217T050000Z
DTEND:20240217T100000Z
X-MICROSOFT-CDO-ALLDAYEVENT:FALSE
SUMMARY:Building a Lap Dulcimer: Nancy Wilder Palmateer Memorial Children’s Workshop
DESCRIPTION:NANCY WILDER PALMATEER MEMORIAL CHILDREN'S WORKSHOP\n\nPRESENTING: BUILDING A LAP DULCIMER\n\n\n\nWhether they are budding musicians or have never picked up an instrument before\, the lap dulcimer is a fun\, easy way for children to make music together. TAUNY staff artist Dan Duggan has worked in schools throughout the Northeast for over 30 years teaching students music on traditional instruments. He has put together a multi-day workshop to guide participants through decorating\, building and learning to play their own lap dulcimer.\n\n\n\nThe dulcimers will be assembled from kits: No messy sanding and sawing required! The instrument bodies are made of sturdy cardboard\, and the necks are wooden. Participants will paint the bodies\, assemble them\, glue the necks and install the tuning machines. \n\n\n\nThe workshop and materials are $15 registration and covers all three days\, but participants are asked to commit to all three days of the workshops.\n\n\n\nWorkshop Series Schedule\n\nFebruary 17th | 1:00pm-5:00pm | Dulcimer body building and decorating\n\nFebruary 21st | 2:00pm-5:000pm | Workshop for kids to learn how to play\n\nApril 12th | 7:00pm | Students play a few tunes to open Jamcrackers Concert\n\n\n\nThis workshop is made possible by the Nancy Wilder Palmateer Memorial Fund. This fund was established by the Palmateer and Wilder families in 2015 to honor the creative side of Nancy Wilder Palmateer\, to recognize her work with children\, and to encourage hands-on engagement for young people.
X-ALT-DESC;FMTTYPE=text/html:<span style="font-size:20px"><strong>NANCY WILDER PALMATEER MEMORIAL CHILDREN&#39\;S WORKSHOP</strong><br />\nPRESENTING: BUILDING A LAP DULCIMER</span><br />\n<br />\nWhether they are budding musicians or have never picked up an instrument before\, the lap dulcimer is a fun\, easy way for children to make music together. TAUNY staff artist Dan Duggan has worked in schools throughout the Northeast for over 30 years teaching students music on traditional instruments. He has put together a multi-day workshop to guide participants through decorating\, building and learning to play their own lap dulcimer.<br />\n<br />\nThe dulcimers will be assembled from kits: No messy sanding and sawing required! The instrument bodies are made of sturdy cardboard\, and the necks are wooden. Participants will paint the bodies\, assemble them\, glue the necks and install the tuning machines.&nbsp\;<br />\n<br />\nThe workshop and materials are $15 registration and covers all three days\, but participants are asked to commit to all three days of the workshops.<br />\n<br />\n<u><strong>Workshop Series Schedule</strong></u><br />\n<strong>February 17th</strong> | 1:00pm-5:00pm | Dulcimer body building and decorating<br />\n<strong>February 21st</strong> | 2:00pm-5:000pm | Workshop for kids to learn how to play<br />\n<strong>April 12th</strong> | 7:00pm | Students play a few tunes to open Jamcrackers Concert<br />\n<br />\n<em>This workshop is made possible by the Nancy Wilder Palmateer Memorial Fund. This fund was established by the Palmateer and Wilder families in 2015 to honor the creative side of Nancy Wilder Palmateer\, to recognize her work with children\, and to encourage hands-on engagement for young people.</em>
LOCATION:The TAUNY Center 53 Main St. Canton\, NY
UID:e.2288.16431
SEQUENCE:3
DTSTAMP:20260422T165335Z
URL:http://visitstl-gzcms.preview.gochambermaster.com/events/details/building-a-lap-dulcimer-nancy-wilder-palmateer-memorial-children-s-workshop-16431
END:VEVENT

END:VCALENDAR
