BEGIN:VCALENDAR
VERSION:2.0
PRODID:-//ChamberMaster//Event Calendar 2.0//EN
METHOD:PUBLISH
X-PUBLISHED-TTL:P3D
REFRESH-INTERVAL:P3D
CALSCALE:GREGORIAN
BEGIN:VEVENT
DTSTART:20251120T133000Z
DTEND:20251120T160000Z
X-MICROSOFT-CDO-ALLDAYEVENT:FALSE
SUMMARY:Business Connections: Spotlight on Resources at Southwest Tech 2025
DESCRIPTION:BUSINESS RESOURCE CONNECTIONS\n\nSPOTLIGHT ON BOCES: FEAT. SOUTHWEST TECH\n\nThe St. Lawrence County Business Connections Committee is pleased to partner with the St. Lawrence-Lewis Board of Cooperative Educational Services (BOCES) for special informational programs and student-led tours at each of the three Tech Centers in St. Lawrence County. Join us to learn about programs offered at BOCES and how they can meet your business needs!\n\n\n\nAttending these events will give you the opportunity to see firsthand all that BOCES offers and hear about it directly from the students and staff. When it comes to training and finding your current and future workforce\, BOCES is an exceptional resource we are pleased to introduce to St. Lawrence County businesses.\n\n\n\nSOUTHWEST TECH  Registration is open\n\nThursday\, Nov.20 | 8:30 a.m. - 11 a.m.\n\n\n\n        REGISTER NOW FOR OTHER TOURS!\n\n	Seaway Tech in Norwood on Tuesday\, November 18th from 8:30am to 11:00am\n	Northwest Tech in Ogdensburg on Wednesday\, November 19th from 8:30am - 11:00am.\n	Southwest Tech in Fowler on Thursday\, November 20th from 8:30 am-11:00 am\n\n\n\n	Advance registration is required & space is limited.\n	Breakfast will be provided.\n	This is a valuable networking opportunity\, so make sure to bring your business cards!\n	Please note that we will follow the school policy for cancellations or delays for inclement weather on the day of the event.\n\nABOUT SOUTHWEST TECH\n\nThe Southwest Career & Technical Education Center is located just outside of Gouverneur\, NY in the Town of Fowler and serves an average of 280 students from 5 component school districts: Clifton-Fine\, Edwards-Knox\, Gouverneur\, Harrisville\, and Hermon-DeKalb. The following programs are offered at Southwest Tech:\n\n\n	Automotive Technology\n	Building Trades\n	Certified Nursing Assistant (CNA\, One year program)\n	Cosmetology\n	CREATE\n	Criminal Justice\n	Culinary Arts\n	Education & Human Services\n	Digital Media Design\n	Heavy Equipment Operations\n	Metalworking \n	New Visions: Medical Careers\n	Pharmacy Tech\n\n \n\n\n\nThe St. Lawrence County Business Connections Committee is comprised of representatives from the STLC Chamber of Commerce\, Industrial Development Agency\, New York Power Authority\, Workforce Development Board\, and Small Business Development Center.
X-ALT-DESC;FMTTYPE=text/html:<span style="color:#339966\;"><span style="font-size:20px\;"><strong>BUSINESS RESOURCE CONNECTIONS</strong><br />\nSPOTLIGHT ON BOCES: FEAT. SOUTHWEST TECH</span></span><br />\nThe St. Lawrence County Business Connections Committee is pleased to partner with the St. Lawrence-Lewis Board of Cooperative Educational Services (BOCES) for special informational programs and student-led tours at each of the three Tech Centers in St. Lawrence County. Join us to learn about programs offered at BOCES and how they can meet your business needs!<br />\n<br />\nAttending these events will give you the opportunity to see firsthand all that BOCES offers and hear about it directly from the students and staff.&nbsp\;When it comes to training and finding your current and future workforce\, BOCES is an exceptional resource we are pleased to introduce to St. Lawrence County businesses.<br />\n<br />\n<strong><span style="font-size:16px\;">SOUTHWEST TECH&nbsp\;<a href="https://lp.constantcontactpages.com/ev/reg/k5j4ua9"> Registration is open</a><br />\nThursday\, Nov.20 | 8:30 a.m. - 11 a.m.</span></strong><br />\n<br />\n<strong style="color: rgb(51\, 51\, 51)\; font-family: sans-serif\, Arial\, Verdana\, &quot\;Trebuchet MS&quot\;\; font-size: 13px\;">&nbsp\; &nbsp\; &nbsp\; &nbsp\;&nbsp\;REGISTER NOW FOR OTHER TOURS!</strong>\n<ul style="padding: 0px 40px\; color: rgb(51\, 51\, 51)\; font-family: sans-serif\, Arial\, Verdana\, &quot\;Trebuchet MS&quot\;\; font-size: 13px\;">\n	<li><u><a href="https://lp.constantcontactpages.com/ev/reg/2wqykh4" style="color: rgb(7\, 130\, 193)\;">Seaway Tech in Norwood on Tuesday\, November 18th from 8:30am to 11:00am</a></u></li>\n	<li><u><a href="https://lp.constantcontactpages.com/ev/reg/dt523tw" style="color: rgb(7\, 130\, 193)\;" target="_blank">Northwest Tech in Ogdensburg on Wednesday\, November 19th&nbsp\;from 8:30am - 11:00am.</a></u></li>\n	<li><u><a href="https://lp.constantcontactpages.com/ev/reg/k5j4ua9" style="color: rgb(7\, 130\, 193)\;">Southwest Tech in Fowler on Thursday\, November 20th&nbsp\;from 8:30 am-11:00 am</a></u></li>\n</ul>\n\n<ul>\n	<li>Advance registration is required &amp\; space is limited.</li>\n	<li>Breakfast will be provided.</li>\n	<li>This is a valuable networking opportunity\, so make sure to bring your business cards!</li>\n	<li>Please note that we will follow the school policy for cancellations or delays for inclement weather on the day of the event.</li>\n</ul>\n<strong>ABOUT SOUTHWEST TECH</strong><br />\nThe<strong>&nbsp\;</strong>Southwest Career &amp\; Technical Education Center is located just outside of Gouverneur\, NY in the Town of Fowler and serves an average of 280 students from 5 component school districts: Clifton-Fine\, Edwards-Knox\, Gouverneur\, Harrisville\, and Hermon-DeKalb. The following programs are offered at Southwest Tech:\n\n<ul>\n	<li>Automotive Technology</li>\n	<li>Building Trades</li>\n	<li>Certified Nursing Assistant (CNA\, One year program)</li>\n	<li>Cosmetology</li>\n	<li>CREATE</li>\n	<li>Criminal Justice</li>\n	<li>Culinary Arts</li>\n	<li>Education &amp\; Human Services</li>\n	<li>Digital Media Design</li>\n	<li>Heavy Equipment Operations</li>\n	<li>Metalworking&nbsp\;</li>\n	<li>New Visions: Medical Careers</li>\n	<li>Pharmacy Tech</li>\n</ul>\n&nbsp\;\n\n<ul>\n</ul>\n<em>The St. Lawrence County Business Connections Committee is comprised of representatives from the STLC Chamber of Commerce\, Industrial Development Agency\, New York Power Authority\, Workforce Development Board\, and Small Business Development Center.</em>
LOCATION:Southwest Technical Education Center 3606 State Highway 58 Gouverneur\, NY 13642
UID:e.2288.20547
SEQUENCE:3
DTSTAMP:20260420T181040Z
URL:http://visitstl-gzcms.preview.gochambermaster.com/events/details/business-connections-spotlight-on-resources-at-southwest-tech-2025-20547
END:VEVENT

END:VCALENDAR
