BEGIN:VCALENDAR
VERSION:2.0
PRODID:-//ChamberMaster//Event Calendar 2.0//EN
METHOD:PUBLISH
X-PUBLISHED-TTL:P3D
REFRESH-INTERVAL:P3D
CALSCALE:GREGORIAN
BEGIN:VEVENT
DTSTART:20190326T210000Z
DTEND:20190326T230000Z
X-MICROSOFT-CDO-ALLDAYEVENT:FALSE
SUMMARY:Business\, In the Spotlight - March\, 2019
DESCRIPTION:Do networking the right way! Join us for an evening of networking with local businesses\, while enjoying a drink & snacks at the Barking Dog Saloon. Bring a prospective Chamber Member and be entered for a prize!\n\n\n\nRSVP Online at http://bit.ly/BarkingDogSaloon\, by calling 315-386-4000\, or by email to jo@slcchamber.org\n\n\n\nHosted by:    \n\n\n\nBarking Dog Saloon\n\n495 West Parishville Road\n\nPotsdam\, NY. 13676\n\n\n\nSpotlighted businesses:\n\n\n\nAFE Nuisance Wildlife Control\n\nBarking Dog Saloon\n\nBest Western University Inn\n\nCoakley Home and Hardware\n\nCommercial Press\n\nMort Backus & Sons\n\nNorthern Insuring Agency\n\n\n\nDoor prizes\, refreshments and networking!\n\n\n\nBring a prospective Chamber Member and be entered for a prize!\n\n\n\n$5 Admission\n\n\n\n \n\nFollow the event on Facebook - https://www.facebook.com/events/1001524446704640/\n\n\n\nA HUGE Thank You to our Spotlight Series Sponsors: NNY Business and Commercial Press Inc and SUNY Canton.
X-ALT-DESC;FMTTYPE=text/html:<p><span style="font-size:16px\;"><span style="color: rgb(29\, 33\, 41)\; font-family: Helvetica\, Arial\, sans-serif\;">Do networking the right way! Join us for an evening of networking with local businesses\, while enjoying a drink &amp\; snacks at the Barking Dog Saloon. Bring a prospective Chamber Member and be entered for a prize!</span></span><br />\n<br />\n<strong><span class="text_exposed_show" style="font-family: arial\; font-size: 16px\; display: inline\;"><span style="color: rgb(0\, 0\, 0)\;">RSVP Online at&nbsp\;</span></span><a href="http://bit.ly/BarkingDogSaloon" style="font-family: arial\; font-size: 16px\;">http://bit.ly/BarkingDogSaloon</a><span class="text_exposed_show" style="font-family: arial\; font-size: 16px\; display: inline\;"><span style="color: rgb(0\, 0\, 0)\;">\, by calling&nbsp\;</span><a href="tel:315-386-4000"><span style="color: rgb(0\, 0\, 0)\;">315-386-4000</span></a><span style="color: rgb(0\, 0\, 0)\;">\, or by email to jo@slcchamber.org</span></span></strong><br />\n<br />\n<span style="font-size:16px\;"><span style="font-family:arial\;"><span style="color:#000000\;"><span style="background-color: rgb(255\, 255\, 255)\;">Hosted by:</span>&nbsp\;&nbsp\;&nbsp\;&nbsp\;<br />\n<br />\nBarking Dog Saloon<br />\n495 West Parishville Road<br />\nPotsdam\, NY. 13676<br style="color: rgb(75\, 79\, 86)\; font-family: Helvetica\, Arial\, sans-serif\; font-size: 14px\; background-color: rgb(255\, 255\, 255)\;" />\n<br style="color: rgb(75\, 79\, 86)\; font-family: Helvetica\, Arial\, sans-serif\; font-size: 14px\; background-color: rgb(255\, 255\, 255)\;" />\nSpotlighted businesses:<br />\n<br />\nAFE Nuisance Wildlife Control<br />\nBarking Dog Saloon<br />\nBest Western University Inn<br />\nCoakley Home and Hardware<br />\nCommercial Press<br />\nMort Backus &amp\; Sons<br />\nNorthern Insuring Agency<br />\n<br />\n<span class="text_exposed_show" style="display: inline\; background-color: rgb(255\, 255\, 255)\;">Door prizes\, refreshments and networking!</span><br />\n<br />\n<span class="text_exposed_show" style="display: inline\; background-color: rgb(255\, 255\, 255)\;">Bring a prospective Chamber Member and be entered for a prize!</span><br />\n<br />\n<span style="background-color: rgb(255\, 255\, 255)\;">$5 Adm</span><span style="background-color: rgb(255\, 255\, 255)\;">ission</span></span></span></span><br />\n<br />\n&nbsp\;</p>\n\n<p><span style="font-size:16px\;"><span style="font-family:arial\;"><span class="text_exposed_show" style="display: inline\; background-color: rgb(255\, 255\, 255)\;"><span style="color:#000000\;"><strong>Follow the event on Facebook -&nbsp\;</strong></span></span></span>https://www.facebook.com/events/1001524446704640/</span><br />\n<br />\n<span style="font-size:16px\;"><span style="font-family:arial\;"><span class="text_exposed_show" style="display: inline\; background-color: rgb(255\, 255\, 255)\;"><span style="color:#000000\;">A HUGE Thank You to our Spotlight Series Sponsors: NNY Business and Commercial Press Inc and SUNY Canton.</span></span></span></span></p>\n
LOCATION:Barking Dog Saloon 495 West Parishville Road Potsdam\, NY. 13676
UID:e.2288.7875
SEQUENCE:3
DTSTAMP:20260426T042026Z
URL:http://visitstl-gzcms.preview.gochambermaster.com/events/details/business-in-the-spotlight-march-2019-7875
END:VEVENT

END:VCALENDAR
