BEGIN:VCALENDAR
VERSION:2.0
PRODID:-//ChamberMaster//Event Calendar 2.0//EN
METHOD:PUBLISH
X-PUBLISHED-TTL:P3D
REFRESH-INTERVAL:P3D
CALSCALE:GREGORIAN
BEGIN:VEVENT
DTSTART:20200314T130000Z
DTEND:20200314T200000Z
X-MICROSOFT-CDO-ALLDAYEVENT:FALSE
SUMMARY:Canceled-North Country Kid's Expo\, 2020
DESCRIPTION:As a precautionary measure\, we unfortunately received the following message from SUNY Canton this morning\, which means the North Country Kid's Expo has been canceled. It is unknown at this time if we will reschedule it for a future date.\n\n\n\n"Based on discussions with the SUNY Canton executive team and the Emergency Response Group\, we need to cancel the Kids' Expo this weekend. We recognize the inconvenience this causes you\, your organization\, and your vendors   as well as visitors that had planned to attend   but an abundance of caution necessitates this step."\n\n\n\nWe are\, of course\, sorry for the inconvenience\, and appreciate the support from all parties who were planning to participate. And\, thank you to those who offered to volunteer at the event.\n\n\n\nIf you have any questions please email jo@slcchamber.org\n\n\n\nExhibitor spaces are available for all the activities mentioned\, as well as businesses that cater to families! \n\n\n\nClick here for registration packet.
X-ALT-DESC;FMTTYPE=text/html:<p><span style="color: rgb(29\, 33\, 41)\; font-family: Helvetica\, Arial\, sans-serif\; font-size: 14px\; white-space: pre-wrap\; background-color: rgb(255\, 255\, 255)\;">As a precautionary measure\, we unfortunately received the following message from SUNY Canton this morning\, which means the <strong>North Country Kid&#39\;s Expo has been canceled</strong>. It is unknown at this time if we will reschedule it for a future date.</span><br style="color: rgb(29\, 33\, 41)\; font-family: Helvetica\, Arial\, sans-serif\; font-size: 14px\; white-space: pre-wrap\; background-color: rgb(255\, 255\, 255)\;" />\n<br style="color: rgb(29\, 33\, 41)\; font-family: Helvetica\, Arial\, sans-serif\; font-size: 14px\; white-space: pre-wrap\; background-color: rgb(255\, 255\, 255)\;" />\n<span style="color: rgb(29\, 33\, 41)\; font-family: Helvetica\, Arial\, sans-serif\; font-size: 14px\; white-space: pre-wrap\; background-color: rgb(255\, 255\, 255)\;">&quot\;Based on discussions with the SUNY Canton executive team and the Emergency Response Group\, we need to cancel the Kids&rsquo\; Expo this weekend. We recognize the inconvenience this causes you\, your organization\, and your vendors &ndash\; as well as visitors that had planned to attend &ndash\; but an abundance of caution necessitates this step.&quot\;</span><br style="color: rgb(29\, 33\, 41)\; font-family: Helvetica\, Arial\, sans-serif\; font-size: 14px\; white-space: pre-wrap\; background-color: rgb(255\, 255\, 255)\;" />\n<br style="color: rgb(29\, 33\, 41)\; font-family: Helvetica\, Arial\, sans-serif\; font-size: 14px\; white-space: pre-wrap\; background-color: rgb(255\, 255\, 255)\;" />\n<span style="color: rgb(29\, 33\, 41)\; font-family: Helvetica\, Arial\, sans-serif\; font-size: 14px\; white-space: pre-wrap\; background-color: rgb(255\, 255\, 255)\;">We are\, of course\, sorry for the inconvenience\, and appreciate the support from all parties who were planning to participate. And\, thank you to those who offered to volunteer at the event.</span><br style="color: rgb(29\, 33\, 41)\; font-family: Helvetica\, Arial\, sans-serif\; font-size: 14px\; white-space: pre-wrap\; background-color: rgb(255\, 255\, 255)\;" />\n<br style="color: rgb(29\, 33\, 41)\; font-family: Helvetica\, Arial\, sans-serif\; font-size: 14px\; white-space: pre-wrap\; background-color: rgb(255\, 255\, 255)\;" />\n<span style="color: rgb(29\, 33\, 41)\; font-family: Helvetica\, Arial\, sans-serif\; font-size: 14px\; white-space: pre-wrap\; background-color: rgb(255\, 255\, 255)\;">If you have any questions please email jo@slcchamber.org</span><br />\n<br />\nExhibitor spaces are available for all the activities mentioned\, as well as businesses that cater to families!&nbsp\;<br />\n<br />\n<a href="https://growthzonesitesprod.azureedge.net/wp-content/uploads/sites/1355/2020/02/Kids-Expo-2020-Vendor-Registration.pdf"><strong>Click here for registration packet.</strong></a></p>\n
LOCATION:SUNY Canton Roos House Athletic Center 34 Cornell Drive Canton\, NY 13617
UID:e.2288.9248
SEQUENCE:3
DTSTAMP:20260424T192906Z
URL:http://visitstl-gzcms.preview.gochambermaster.com/events/details/canceled-north-country-kid-s-expo-2020-9248
END:VEVENT

END:VCALENDAR
