BEGIN:VCALENDAR
VERSION:2.0
PRODID:-//ChamberMaster//Event Calendar 2.0//EN
METHOD:PUBLISH
X-PUBLISHED-TTL:P3D
REFRESH-INTERVAL:P3D
CALSCALE:GREGORIAN
BEGIN:VEVENT
DTSTART:20260627T140000Z
DTEND:20260627T200000Z
X-MICROSOFT-CDO-ALLDAYEVENT:FALSE
SUMMARY:Car-B-Que
DESCRIPTION:CAR-B-QUE\n\n22ND ANNUAL CLASSIC CAR SHOW\n\nCar-B-Que is a classic car show with food\, vendors\, fun for families and a great way to kick off the summer in Ogdensburg\, NY. This annual event hosts classic cars (registration required\, details below)\, a touch-a-truck\, kids games\, live music\, food trucks\, vendors\, raffles and MORE! Admission is FREE to the public. \n\nNew this year -- we invite all antique dealers and collectible treasure vendors to join us!\n\n\n\nFood\, Vendors & Activities\n\n	Concession Stand: Hamburgers\, Hotdogs\, Chips\, Soda\, Water. Sponsored by the Ogdensburg Community Office\n	Face Painting + Free Kids Activities\n	Touch-A-Truck by Kiwanis Club of Ogdensburg\n	50/50 Raffle\n\nTrophy Awards & Sponsors\n\n\n	Best 50's Car by Carlisle Law Firm\, P.C.\n	Best 60's Car by Bradley's Service Station\n	Best Under 25 by McLear's Hearing Aids\n	Best Muscle Car by Bertrand's Construction\n	Best Mopar by Blevins Brothers\n	Best Orphan Car by Truax Insurance Agency\n	Best Sports Car by Regan's Automotive\n	Best Classic by P&T Car and Pet Wash\, LLC\n	Best Street Rod by Phillip's Diner\n	Best Foreign by Rishe's Auto\n	Best Paint by DeFelsko\n	Best GM by Bill Rapp Chevrolet\n	Best Ford by Kimro's Medicine Place\n	Best Model A Ford by Carrothers & Clough Law Firm\n	Best Motorcycle by North Country Savings Bank\n	Best Snowmobile by Wilder Forsythe Insurance\n	Most Unique by Strader-Ferris International\n	Oldest Car by Jones Insurance Agency\n	Club Participation by Ed-Med Federal Credit Union\n	Ladies Choice by Jones Insurance Agency\n	People's Choice by Latham's Auto\n	Best Truck in Memory of Wayne Izzo by Howland Pump\n	Best Corvette in Memory of Wayne Izzo by Dr. Michele Vondra-Harwood\n	In Memory of Don Morley by Underwater Discoveries\n	Best of Show by St. Lawrence Federal Credit Union\n	Best Mopar in Memory of Wayne Izzo by Jones Insurance Agency\n	Longest Distance by Blue Heron Realty (cash prize)\n	Hard Luck by Pinto\, Mucenski\, Hooper and VanHouse\, CPA (cash prize)\n	STLC Chamber's Choice by STLC Chamber of Commerce\n\nA special THANK YOU to our Corporate Sponsors:\n\n\n	Bertrand's Construction\, Inc. \n	Frary Funeral Home & Cremation Services\n	North Country Savings Bank\n	Ogdensburg Family Practice\n	Price Chopper\n	Thornhill Health Managing\n	Truax Insurance Agency\n	WellNow Urgent Care\n\nVendor / Vehicle Registration Details\n\nClick the applicable link to download your application! Deadlines: Monday June 1st. \n\nFor more information: Contact Laura Pearson at Laura@SLCchamber.org or 315.386.4000 x6.\n\n	Car Registration ($10 per Car)\n	Vendor Registration (STLC Chamber Members: $50\, Non-Members: $75\, Non-Profits: $25)\n\nA special THANK YOU to the Fort LaPresentation Association\, Kiwanis Club of Ogdensburg\, and the City of Ogdensburg for supporting this year's Car-B-Que!
X-ALT-DESC;FMTTYPE=text/html:<span style="color:#004f71\;"><span style="font-size:20px\;"><strong>CAR-B-QUE</strong></span><br />\n<span style="font-size:18px\;">22ND ANNUAL CLASSIC CAR SHOW</span></span><br />\nCar-B-Que is a classic car show<strong> </strong>with food\, vendors\, fun for families and a great way to kick off the summer in Ogdensburg\, NY. This annual event hosts classic cars (registration required\, details below)\, a touch-a-truck\, kids games\, live music\, food trucks\, vendors\, raffles and MORE! Admission is FREE to the public.&nbsp\;<br />\nNew this year -- we invite all antique dealers and collectible treasure vendors to join us!<br />\n<br />\n<strong><span style="color:#004f71\;"><span style="font-size: 18px\;">Food\, Vendors &amp\; Activities</span></span></strong>\n<ul>\n	<li><strong>Concession Stand:</strong>&nbsp\;Hamburgers\, Hotdogs\, Chips\, Soda\, Water.&nbsp\;Sponsored by the Ogdensburg Community Office</li>\n	<li><strong>Face Painting + Free Kids Activities</strong></li>\n	<li><strong>Touch-A-Truck</strong> by&nbsp\;Kiwanis Club of Ogdensburg</li>\n	<li><strong>50/50 Raffle</strong></li>\n</ul>\n<strong><span style="color:#004f71\;"><span style="font-size:18px\;">Trophy Awards &amp\; Sponsors</span></span></strong>\n\n<ul>\n	<li><strong>Best 50&#39\;s Car</strong> by&nbsp\;Carlisle Law Firm\, P.C.</li>\n	<li><strong>Best 60&#39\;s Car</strong>&nbsp\;by Bradley&#39\;s Service Station</li>\n	<li><strong>Best Under 25&nbsp\;</strong>by McLear&#39\;s Hearing Aids</li>\n	<li><strong>Best Muscle Car </strong>by Bertrand&#39\;s Construction</li>\n	<li><strong>Best Mopar </strong>by Blevins Brothers</li>\n	<li><strong>Best Orphan Car </strong>by Truax Insurance Agency</li>\n	<li><strong>Best Sports Car</strong>&nbsp\;by Regan&#39\;s Automotive</li>\n	<li><strong>Best Classic&nbsp\;</strong>by P&amp\;T Car and Pet Wash\, LLC</li>\n	<li><strong>Best Street Rod&nbsp\;</strong>by Phillip&#39\;s Diner</li>\n	<li><strong>Best Foreign</strong>&nbsp\;by Rishe&#39\;s Auto</li>\n	<li><strong>Best Paint</strong>&nbsp\;by DeFelsko</li>\n	<li><strong>Best GM</strong>&nbsp\;by Bill Rapp Chevrolet</li>\n	<li><strong>Best Ford&nbsp\;</strong>by Kimro&#39\;s Medicine Place</li>\n	<li><strong>Best Model A Ford&nbsp\;</strong>by&nbsp\;Carrothers &amp\; Clough Law Firm</li>\n	<li><strong>Best Motorcycle&nbsp\;</strong>by North Country Savings Bank</li>\n	<li><strong>Best Snowmobile</strong>&nbsp\;by Wilder Forsythe Insurance</li>\n	<li><strong>Most Unique</strong>&nbsp\;by Strader-Ferris International</li>\n	<li><strong>Oldest Car</strong>&nbsp\;by Jones Insurance Agency</li>\n	<li><strong>Club Participation</strong>&nbsp\;by Ed-Med Federal Credit Union</li>\n	<li><strong>Ladies Choice</strong>&nbsp\;by Jones Insurance Agency</li>\n	<li><strong>People&#39\;s Choice&nbsp\;</strong>by Latham&#39\;s Auto</li>\n	<li><strong>Best Truck in Memory of Wayne Izzo</strong>&nbsp\;by Howland Pump</li>\n	<li><strong>Best Corvette in Memory of Wayne Izzo</strong> by Dr. Michele Vondra-Harwood</li>\n	<li><strong>In Memory of Don Morley&nbsp\;</strong>by Underwater Discoveries</li>\n	<li><strong>Best of Show</strong>&nbsp\;by St. Lawrence Federal Credit Union</li>\n	<li><strong>Best Mopar in Memory of Wayne Izzo</strong> by Jones Insurance Agency</li>\n	<li><strong>Longest Distance </strong>by Blue Heron Realty (cash prize)</li>\n	<li><strong>Hard Luck</strong>&nbsp\;by Pinto\, Mucenski\, Hooper and VanHouse\, CPA (cash prize)</li>\n	<li><strong>STLC Chamber&#39\;s Choice </strong>by STLC Chamber of Commerce</li>\n</ul>\n<span style="color:#004f71\;"><span style="font-size:18px\;"><strong>A special THANK YOU to our Corporate Sponsors:</strong></span></span>\n\n<ul>\n	<li>Bertrand&#39\;s Construction\, Inc.&nbsp\;</li>\n	<li>Frary Funeral Home &amp\; Cremation Services</li>\n	<li>North Country Savings Bank</li>\n	<li>Ogdensburg Family Practice</li>\n	<li>Price Chopper</li>\n	<li>Thornhill Health Managing</li>\n	<li>Truax Insurance Agency</li>\n	<li>WellNow Urgent Care</li>\n</ul>\n<strong><span style="color: rgb(0\, 79\, 113)\; font-size: 18px\;">Vendor / Vehicle Registration Details</span></strong><br />\nClick the applicable link to download your application! Deadlines: Monday June 1st.&nbsp\;<br />\nFor more information: Contact&nbsp\;Laura Pearson at Laura@SLCchamber.org or 315.386.4000 x6.\n<ul>\n	<li><a href="https://files.constantcontact.com/0e2d0b0a401/dccd496e-4735-4cea-baef-ceb2df774a17.pdf" target="_blank">Car Registration</a>&nbsp\;($10 per Car)</li>\n	<li><a href="https://acrobat.adobe.com/id/urn:aaid:sc:US:47031304-2bf8-41e7-9a25-7cdae36dc5a1" target="_blank">Vendor Registration</a><strong>&nbsp\;</strong>(STLC Chamber Members: $50\, Non-Members: $75\, Non-Profits:&nbsp\;$25)</li>\n</ul>\n<span style="font-size:18px\;">A special THANK YOU to the <a href="https://fort1749.org/" target="_blank">Fort LaPresentation Association</a>\, <a href="https://www.kiwanisclubofogdensburg.org/" target="_blank">Kiwanis Club of Ogdensburg</a>\, and the <a href="https://www.ogdensburg.org/" target="_blank">City of Ogdensburg</a> for supporting this year&#39\;s Car-B-Que!</span>
LOCATION:Fort La Presentation Association 22 Albany Avenue Ogdensburg\, NY
UID:e.2288.20717
SEQUENCE:3
DTSTAMP:20260420T064723Z
URL:http://visitstl-gzcms.preview.gochambermaster.com/events/details/car-b-que-20717
END:VEVENT

END:VCALENDAR
