BEGIN:VCALENDAR
VERSION:2.0
PRODID:-//ChamberMaster//Event Calendar 2.0//EN
METHOD:PUBLISH
X-PUBLISHED-TTL:P3D
REFRESH-INTERVAL:P3D
CALSCALE:GREGORIAN
BEGIN:VEVENT
DTSTART:20260201T150000Z
DTEND:20260201T180000Z
X-MICROSOFT-CDO-ALLDAYEVENT:FALSE
SUMMARY:Cardboard Sled Building Workshop
DESCRIPTION:Nature Up North's 8th annual cardboard sled race is fast approaching! Join Nature Up North for a cardboard sled-building workshop at the Wachtmeister Field Station. At this workshop\, you will learn how to build your own cardboard sled for the race\, and we'll have all the materials you'll need! Cardboard\, duct tape\, plastic bags\, glue\, and paint are all allowed materials. If you have a box\, a color\, or plastic bags you want to use\, you can bring those with you too. Stop by anytime between 10:00 am - 1:00 pm on Sunday\, February 1st for this workshop\, and don't forget to register for the race! Its event page can be found here: https://www.natureupnorth.org/event/8th-annual-cardboard-sled-race
X-ALT-DESC;FMTTYPE=text/html:Nature Up North&#39\;s 8th annual cardboard sled race is fast approaching! Join Nature Up North for a cardboard sled-building workshop at the Wachtmeister Field Station. At this workshop\, you will learn how to build your own cardboard sled for the race\, and we&#39\;ll have all the materials you&#39\;ll need! Cardboard\, duct tape\, plastic bags\, glue\, and paint are all allowed materials. If you have a box\, a color\, or plastic bags you want to use\, you can bring those with you too. Stop by anytime between 10:00 am - 1:00 pm on Sunday\, February 1st for this workshop\, and don&#39\;t forget to register for the race! Its event page can be found here: https://www.natureupnorth.org/event/8th-annual-cardboard-sled-race
LOCATION:Wachtmeister Field Station - Outer Park St. on the left after the Little River Bridge
UID:e.2288.20699
SEQUENCE:3
DTSTAMP:20260420T092435Z
URL:http://visitstl-gzcms.preview.gochambermaster.com/events/details/cardboard-sled-building-workshop-02-01-2026-20699
END:VEVENT

END:VCALENDAR
