BEGIN:VCALENDAR
VERSION:2.0
PRODID:-//ChamberMaster//Event Calendar 2.0//EN
METHOD:PUBLISH
X-PUBLISHED-TTL:P3D
REFRESH-INTERVAL:P3D
CALSCALE:GREGORIAN
BEGIN:VEVENT
DTSTART;VALUE=DATE:20210812
DTEND;VALUE=DATE:20210815
TRANSP:TRANSPARENT
X-MICROSOFT-CDO-ALLDAYEVENT:TRUE
SUMMARY:Carhartt Bassmaster College Series Championship
DESCRIPTION:The Carhartt Bassmaster College Series Championship will field as many as 130 teams of anglers representing colleges\n\nand universities across the nation. Qualifications are based on the teams' finishes in four college tour stops as well as a\n\nWild Card event being held throughout the country.\n\n \n\nThursday August 12: 6:30am Launch at Whittaker Park\, Waddington NY. 2:30pm Weigh In at Whittaker Park.\n\nFriday August 13: 6:30am Launch at Whittaker Park\, Waddington NY. 12-5pm Mini Festival (food\, family friendly interactive activities\, vendors\, music). 2:30pm Weigh In at Whittaker Park.\n\nSaturday August 14: 6:30am Launch at Whittaker Park\, Waddington NY. 12-5pm Mini Festival (food\, family friendly interactive activities\, vendors\, music). 2:30pm Weigh In at Whittaker Park\n\nVendor Packet HERE:\n\n---\n\nThe Carhartt Bassmaster College Series Championship presented by Bass Pro Shops is being hosted by the Village of\n\nWaddington\, St. Lawrence County Chamber and Clarkson University. This tournament is also supported by a Market\n\nNew York grant from I LOVE NY/New York State's Division of Tourism awarded as part of the Regional Economic\n\nDevelopment Council initiative. The tournament and all associated festivities are being planned to ensure the safety of\n\nathletes\, staff and guests.
X-ALT-DESC;FMTTYPE=text/html:<p style="box-sizing: inherit\; margin: 0px 0px 1rem\; padding: 0px\; font-size: 16px\; line-height: 1.6\; text-rendering: optimizelegibility\; color: rgb(0\, 79\, 113)\; font-family: &quot\;Open Sans&quot\;\, &quot\;Helvetica Neue&quot\;\, Helvetica\, Roboto\, Arial\, sans-serif\; background-color: rgb(252\, 252\, 252)\;">The Carhartt Bassmaster College Series Championship will field as many as 130 teams of anglers representing colleges</p>\n\n<p style="box-sizing: inherit\; margin: 0px 0px 1rem\; padding: 0px\; font-size: 16px\; line-height: 1.6\; text-rendering: optimizelegibility\; color: rgb(0\, 79\, 113)\; font-family: &quot\;Open Sans&quot\;\, &quot\;Helvetica Neue&quot\;\, Helvetica\, Roboto\, Arial\, sans-serif\; background-color: rgb(252\, 252\, 252)\;">and universities across the nation. Qualifications are based on the teams&rsquo\; finishes in four college tour stops as well as a</p>\n\n<p style="box-sizing: inherit\; margin: 0px 0px 1rem\; padding: 0px\; font-size: 16px\; line-height: 1.6\; text-rendering: optimizelegibility\; color: rgb(0\, 79\, 113)\; font-family: &quot\;Open Sans&quot\;\, &quot\;Helvetica Neue&quot\;\, Helvetica\, Roboto\, Arial\, sans-serif\; background-color: rgb(252\, 252\, 252)\;">Wild Card event being held throughout the country.</p>\n\n<p style="box-sizing: inherit\; margin: 0px 0px 1rem\; padding: 0px\; font-size: 16px\; line-height: 1.6\; text-rendering: optimizelegibility\; color: rgb(0\, 79\, 113)\; font-family: &quot\;Open Sans&quot\;\, &quot\;Helvetica Neue&quot\;\, Helvetica\, Roboto\, Arial\, sans-serif\; background-color: rgb(252\, 252\, 252)\;">&nbsp\;</p>\n\n<p style="box-sizing: inherit\; margin: 0px 0px 1rem\; padding: 0px\; font-size: 16px\; line-height: 1.6\; text-rendering: optimizelegibility\; color: rgb(0\, 79\, 113)\; font-family: &quot\;Open Sans&quot\;\, &quot\;Helvetica Neue&quot\;\, Helvetica\, Roboto\, Arial\, sans-serif\; background-color: rgb(252\, 252\, 252)\;">Thursday August 12: 6:30am Launch at Whittaker Park\, Waddington NY. 2:30pm Weigh In at Whittaker Park.</p>\n\n<p style="box-sizing: inherit\; margin: 0px 0px 1rem\; padding: 0px\; font-size: 16px\; line-height: 1.6\; text-rendering: optimizelegibility\; color: rgb(0\, 79\, 113)\; font-family: &quot\;Open Sans&quot\;\, &quot\;Helvetica Neue&quot\;\, Helvetica\, Roboto\, Arial\, sans-serif\; background-color: rgb(252\, 252\, 252)\;">Friday August 13: 6:30am Launch at Whittaker Park\, Waddington NY. 12-5pm Mini Festival (food\, family friendly interactive activities\, vendors\, music). 2:30pm Weigh In at Whittaker Park.</p>\n\n<p style="box-sizing: inherit\; margin: 0px 0px 1rem\; padding: 0px\; font-size: 16px\; line-height: 1.6\; text-rendering: optimizelegibility\; color: rgb(0\, 79\, 113)\; font-family: &quot\;Open Sans&quot\;\, &quot\;Helvetica Neue&quot\;\, Helvetica\, Roboto\, Arial\, sans-serif\; background-color: rgb(252\, 252\, 252)\;">Saturday August 14: 6:30am Launch at Whittaker Park\, Waddington NY. 12-5pm Mini Festival (food\, family friendly interactive activities\, vendors\, music). 2:30pm Weigh In at Whittaker Park</p>\n\n<p style="box-sizing: inherit\; margin: 0px 0px 1rem\; padding: 0px\; font-size: 16px\; line-height: 1.6\; text-rendering: optimizelegibility\; color: rgb(0\, 79\, 113)\; font-family: &quot\;Open Sans&quot\;\, &quot\;Helvetica Neue&quot\;\, Helvetica\, Roboto\, Arial\, sans-serif\; background-color: rgb(252\, 252\, 252)\;">Vendor Packet HERE:</p>\n\n<p style="box-sizing: inherit\; margin: 0px 0px 1rem\; padding: 0px\; font-size: 16px\; line-height: 1.6\; text-rendering: optimizelegibility\; color: rgb(0\, 79\, 113)\; font-family: &quot\;Open Sans&quot\;\, &quot\;Helvetica Neue&quot\;\, Helvetica\, Roboto\, Arial\, sans-serif\; background-color: rgb(252\, 252\, 252)\;">---</p>\n\n<p style="box-sizing: inherit\; margin: 0px 0px 1rem\; padding: 0px\; font-size: 16px\; line-height: 1.6\; text-rendering: optimizelegibility\; color: rgb(0\, 79\, 113)\; font-family: &quot\;Open Sans&quot\;\, &quot\;Helvetica Neue&quot\;\, Helvetica\, Roboto\, Arial\, sans-serif\; background-color: rgb(252\, 252\, 252)\;">The Carhartt Bassmaster College Series Championship presented by Bass Pro Shops is being hosted by the Village of</p>\n\n<p style="box-sizing: inherit\; margin: 0px 0px 1rem\; padding: 0px\; font-size: 16px\; line-height: 1.6\; text-rendering: optimizelegibility\; color: rgb(0\, 79\, 113)\; font-family: &quot\;Open Sans&quot\;\, &quot\;Helvetica Neue&quot\;\, Helvetica\, Roboto\, Arial\, sans-serif\; background-color: rgb(252\, 252\, 252)\;">Waddington\, St. Lawrence County Chamber and Clarkson University. This tournament is also supported by a Market</p>\n\n<p style="box-sizing: inherit\; margin: 0px 0px 1rem\; padding: 0px\; font-size: 16px\; line-height: 1.6\; text-rendering: optimizelegibility\; color: rgb(0\, 79\, 113)\; font-family: &quot\;Open Sans&quot\;\, &quot\;Helvetica Neue&quot\;\, Helvetica\, Roboto\, Arial\, sans-serif\; background-color: rgb(252\, 252\, 252)\;">New York grant from I LOVE NY/New York State&rsquo\;s Division of Tourism awarded as part of the Regional Economic</p>\n\n<p style="box-sizing: inherit\; margin: 0px 0px 1rem\; padding: 0px\; font-size: 16px\; line-height: 1.6\; text-rendering: optimizelegibility\; color: rgb(0\, 79\, 113)\; font-family: &quot\;Open Sans&quot\;\, &quot\;Helvetica Neue&quot\;\, Helvetica\, Roboto\, Arial\, sans-serif\; background-color: rgb(252\, 252\, 252)\;">Development Council initiative. The tournament and all associated festivities are being planned to ensure the safety of</p>\n\n<p style="box-sizing: inherit\; margin: 0px 0px 1rem\; padding: 0px\; font-size: 16px\; line-height: 1.6\; text-rendering: optimizelegibility\; color: rgb(0\, 79\, 113)\; font-family: &quot\;Open Sans&quot\;\, &quot\;Helvetica Neue&quot\;\, Helvetica\, Roboto\, Arial\, sans-serif\; background-color: rgb(252\, 252\, 252)\;">athletes\, staff and guests.</p>\n
LOCATION:Whittaker Park\, Waddington NY
UID:e.2288.10559
SEQUENCE:3
DTSTAMP:20260421T223400Z
URL:http://visitstl-gzcms.preview.gochambermaster.com/events/details/carhartt-bassmaster-college-series-championship-10559
END:VEVENT

END:VCALENDAR
