BEGIN:VCALENDAR
VERSION:2.0
PRODID:-//ChamberMaster//Event Calendar 2.0//EN
METHOD:PUBLISH
X-PUBLISHED-TTL:P3D
REFRESH-INTERVAL:P3D
CALSCALE:GREGORIAN
BEGIN:VEVENT
DTSTART;VALUE=DATE:20240316
DTEND;VALUE=DATE:20240317
TRANSP:TRANSPARENT
X-MICROSOFT-CDO-ALLDAYEVENT:TRUE
SUMMARY:CCE of St. Law County
DESCRIPTION:CCE OF ST. LAW COUNTY - MAPLE WEEK\n\n\n\nthe Cornell Cooperative Extension of St. Lawrence County will be hosting activities for Maple Week. The helpers this day will be ag students from across St. Lawrence County. They will have tours of the Sugarbush and Sugarhouse. There will also be demonstrations of how to make maple cream. You are welcome to try doing it yourself!
X-ALT-DESC;FMTTYPE=text/html:<span style="font-size:20px\;"><strong>CCE OF ST. LAW COUNTY - MAPLE WEEK</strong></span><br />\n<br />\nthe Cornell Cooperative Extension of St. Lawrence County will be hosting activities for Maple Week. The helpers this day will be ag students from across St. Lawrence County. They will have tours of the Sugarbush and Sugarhouse. There will also be demonstrations of how to make maple cream. You are welcome to try doing it yourself!
LOCATION:820 CR 25\, Canton
UID:e.2288.16861
SEQUENCE:3
DTSTAMP:20260422T020207Z
URL:http://visitstl-gzcms.preview.gochambermaster.com/events/details/cce-of-st-law-county-16861
END:VEVENT

END:VCALENDAR
