BEGIN:VCALENDAR
VERSION:2.0
PRODID:-//ChamberMaster//Event Calendar 2.0//EN
METHOD:PUBLISH
X-PUBLISHED-TTL:P3D
REFRESH-INTERVAL:P3D
CALSCALE:GREGORIAN
BEGIN:VEVENT
DTSTART:20230824T220000Z
DTEND:20230824T233000Z
X-MICROSOFT-CDO-ALLDAYEVENT:FALSE
SUMMARY:CCE Preserving Garlic Workshop
DESCRIPTION:Cornell Cooperative Extension of St. Lawrence County will host a Preserving Garlic Workshop on Thursday\, August 24 from 6:00pm - 7:30pm at their Harvest Kitchen. The flavor and benefits of garlic can be enjoyed year-round\, because this plant can last for months in its whole form or be turned into other treats such as garlic powder or a flavorful paste. Extension educators and Master Food Preserver volunteers will walk participants though several methods that will make your taste buds rejoice. This class covers fermentation as well as dehydration. Class size is limited! Learn more\, or to register for the workshop\, visit HERE.
X-ALT-DESC;FMTTYPE=text/html:Cornell Cooperative Extension of St. Lawrence County will host a <strong>Preserving Garlic Workshop</strong> on Thursday\, August 24 from 6:00pm - 7:30pm at their Harvest Kitchen. The flavor and benefits of garlic can be enjoyed year-round\, because this plant can last for months in its whole form or be turned into other treats such as garlic powder or a flavorful paste. Extension educators and Master Food Preserver volunteers will walk participants though several methods that will make your taste buds rejoice. This class covers fermentation as well as dehydration. Class size is limited! Learn more\, or to register for the workshop\, visit <a href="https://stlawrence.cce.cornell.edu/events/2023/08/24/preserving-garlic"><u>HERE</u></a>.
LOCATION:Harvest Kitchen Cornell Cooperative Extension 2043 State Highway 68 Canton\, NY
UID:e.2288.13108
SEQUENCE:3
DTSTAMP:20260422T113054Z
URL:http://visitstl-gzcms.preview.gochambermaster.com/events/details/cce-preserving-garlic-workshop-13108
END:VEVENT

END:VCALENDAR
