BEGIN:VCALENDAR
VERSION:2.0
PRODID:-//ChamberMaster//Event Calendar 2.0//EN
METHOD:PUBLISH
X-PUBLISHED-TTL:P3D
REFRESH-INTERVAL:P3D
CALSCALE:GREGORIAN
BEGIN:VEVENT
DTSTART:20220409T150000Z
DTEND:20220409T170000Z
X-MICROSOFT-CDO-ALLDAYEVENT:FALSE
SUMMARY:Chad E. Fuller Memorial Exhibit
DESCRIPTION:Come join us as the St. Lawrence County Historical Association dedicated an exhibit in memory of Chad E. Fuller a Potsdam native who was sadly paid the ultimate price for his country while serving in Afghanistan.
X-ALT-DESC;FMTTYPE=text/html:Come join us as the St. Lawrence County Historical Association dedicated an exhibit in memory of Chad E. Fuller a Potsdam native who was sadly paid the ultimate price for his country while serving in Afghanistan.
LOCATION:St. Lawrence County Historical Association 3 E. Main St. Canton\, NY. 13617
UID:e.2288.10959
SEQUENCE:3
DTSTAMP:20260421T010936Z
URL:http://visitstl-gzcms.preview.gochambermaster.com/events/details/chad-e-fuller-memorial-exhibit-10959
END:VEVENT

END:VCALENDAR
