BEGIN:VCALENDAR
VERSION:2.0
PRODID:-//ChamberMaster//Event Calendar 2.0//EN
METHOD:PUBLISH
X-PUBLISHED-TTL:P3D
REFRESH-INTERVAL:P3D
CALSCALE:GREGORIAN
BEGIN:VEVENT
DTSTART;VALUE=DATE:20231020
DTEND;VALUE=DATE:20231021
TRANSP:TRANSPARENT
X-MICROSOFT-CDO-ALLDAYEVENT:TRUE
SUMMARY:Chase's Riverside Dining Spooktacular
DESCRIPTION:CHASE'S RIVERSIDE DINING SPOOKTACULAR\n\nChase's Riverside Dining will be hosting a Spooktacular event on Friday\, October 20 beginning at 7:00pm. The event will feature a costume contest with drawing at 9:00pm a a night full of karaoke\, games\, 50/50 and complimentary appetizers. Live entertainment performed by The Backwater Duo. Door entry is $10 and for persons 21+.
X-ALT-DESC;FMTTYPE=text/html:<span style="color:#FF8C00\;"><strong><span style="font-size:20px\;">CHASE&#39\;S RIVERSIDE DINING SPOOKTACULAR</span></strong></span><br />\nChase&#39\;s Riverside Dining will be hosting a Spooktacular event on Friday\, October 20 beginning at 7:00pm. The event will feature a costume contest with drawing at 9:00pm a a night full of karaoke\, games\, 50/50 and complimentary appetizers. Live entertainment performed by The Backwater Duo. Door entry is $10 and for persons 21+.
LOCATION:Chase's Riverside Dining 829 State Highway 131 Massena\, NY
UID:e.2288.16300
SEQUENCE:3
DTSTAMP:20260422T225321Z
URL:http://visitstl-gzcms.preview.gochambermaster.com/events/details/chase-s-riverside-dining-spooktacular-16300
END:VEVENT

END:VCALENDAR
