BEGIN:VCALENDAR
VERSION:2.0
PRODID:-//ChamberMaster//Event Calendar 2.0//EN
METHOD:PUBLISH
X-PUBLISHED-TTL:P3D
REFRESH-INTERVAL:P3D
CALSCALE:GREGORIAN
BEGIN:VEVENT
DTSTART:20240609T143000Z
DTEND:20240609T170000Z
X-MICROSOFT-CDO-ALLDAYEVENT:FALSE
SUMMARY:Chicken BBQ
DESCRIPTION:CHICKEN BBQ FUNDRAISER\n\nSt. Mary's Church in Canton will be holding a Chicken BBQ on Sunday June 9th from 10:30am - 1:00pm.  Menu items include a 1/2 Chicken\, Potato Salad\, Cole Slaw\, Macaroni Salad\, Dinner Roll and Brownie. Cost: Full Meal $15\; 1/2 Chicken only $10.
X-ALT-DESC;FMTTYPE=text/html:<span style="font-size:20px\;"><strong>CHICKEN BBQ FUNDRAISER</strong></span><br />\nSt. Mary&#39\;s Church in Canton will be holding a Chicken BBQ on Sunday June 9th from 10:30am - 1:00pm.&nbsp\; Menu items include a 1/2 Chicken\, Potato Salad\, Cole Slaw\, Macaroni Salad\, Dinner Roll and Brownie. Cost: Full Meal $15\; 1/2 Chicken only $10.
LOCATION:St. Mary's Church 66 Court St. / 2 Powers Street Canton\, NY
UID:e.2288.17882
SEQUENCE:3
DTSTAMP:20260422T053443Z
URL:http://visitstl-gzcms.preview.gochambermaster.com/events/details/chicken-bbq-17882
END:VEVENT

END:VCALENDAR
