BEGIN:VCALENDAR
VERSION:2.0
PRODID:-//ChamberMaster//Event Calendar 2.0//EN
METHOD:PUBLISH
X-PUBLISHED-TTL:P3D
REFRESH-INTERVAL:P3D
CALSCALE:GREGORIAN
BEGIN:VEVENT
DTSTART:20240706T150000Z
DTEND:20240706T160000Z
X-MICROSOFT-CDO-ALLDAYEVENT:FALSE
SUMMARY:Children's Water Safety
DESCRIPTION:CHILDREN'S WATER SAFTEY\n\nLearn how to be safe while you cool down this summer. Brought to you by the Ogdensburg Auxiliary Coast Guard. Ages 3 and up.
X-ALT-DESC;FMTTYPE=text/html:<span style="font-size:20px\;"><strong>CHILDREN&#39\;S WATER SAFTEY</strong></span><br />\nLearn how to be safe while you cool down this summer. Brought to you by the Ogdensburg Auxiliary Coast Guard. Ages 3 and up.
LOCATION:Ogdensburg Public Library 312 Washington St\, Ogdensburg\, NY
UID:e.2288.17982
SEQUENCE:3
DTSTAMP:20260422T020212Z
URL:http://visitstl-gzcms.preview.gochambermaster.com/events/details/children-s-water-safety-17982
END:VEVENT

END:VCALENDAR
