BEGIN:VCALENDAR
VERSION:2.0
PRODID:-//ChamberMaster//Event Calendar 2.0//EN
METHOD:PUBLISH
X-PUBLISHED-TTL:P3D
REFRESH-INTERVAL:P3D
CALSCALE:GREGORIAN
BEGIN:VEVENT
DTSTART:20230810T230000Z
DTEND:20230811T003000Z
X-MICROSOFT-CDO-ALLDAYEVENT:FALSE
SUMMARY:Childwold Church Concert Series: Dan Duggan & Peggy Lynn
DESCRIPTION:CHILDWOLD CHURCH CONCERT SERIES: DAN DUGGAN & PEGGY LYNN\n\nDan Duggin (hammer dulcimer) & Peggy Lynn (folk singer) will be performing original and traditional songs and tunes from the Adirondacks on Thursday\, August 10 at 7:00pm at the Childwold Memorial Presbyterian Church - as part of their free music series. \n\n\n\nSponsored by TSS Pro Music and The Orchestra of Northern New York and the Childwold Church Concert Series.
X-ALT-DESC;FMTTYPE=text/html:<span style="font-size:14px\;"><span style="font-family:verdana\;"><strong>CHILDWOLD CHURCH CONCERT SERIES: DAN DUGGAN &amp\; PEGGY LYNN</strong><br />\nDan Duggin (hammer dulcimer) &amp\; Peggy Lynn (folk singer) will be performing original and traditional songs and tunes from the Adirondacks on Thursday\, August 10 at&nbsp\;7:00pm at the Childwold Memorial Presbyterian Church - as part of their free music series.&nbsp\;</span></span><br />\n<br />\n<em style="font-family: verdana\; font-size: 14px\;">Sponsored by TSS Pro Music and The Orchestra of Northern New York and the Childwold Church Concert Series.</em>
LOCATION:Childwold Memorial Presbyterian Church 104 Bancroft Road Childwood\, NY 12922
UID:e.2288.14103
SEQUENCE:3
DTSTAMP:20260422T103018Z
URL:http://visitstl-gzcms.preview.gochambermaster.com/events/details/childwold-church-concert-series-dan-duggan-peggy-lynn-14103
END:VEVENT

END:VCALENDAR
