BEGIN:VCALENDAR
VERSION:2.0
PRODID:-//ChamberMaster//Event Calendar 2.0//EN
METHOD:PUBLISH
X-PUBLISHED-TTL:P3D
REFRESH-INTERVAL:P3D
CALSCALE:GREGORIAN
BEGIN:VEVENT
DTSTART;VALUE=DATE:20211210
DTEND;VALUE=DATE:20211213
TRANSP:TRANSPARENT
X-MICROSOFT-CDO-ALLDAYEVENT:TRUE
SUMMARY:Christmas in Waddington
DESCRIPTION:Annual Christmas in Waddington Weekend celebrates the season with events and activities December 10-12th. \n\n\n\n(See image for schedule)
X-ALT-DESC;FMTTYPE=text/html:Annual Christmas in Waddington Weekend celebrates the season with events and activities December 10-12th.&nbsp\;<br />\n<br />\n(See image for schedule)
LOCATION:Main Street Waddington with events and activities in different businesses\, Island View Park\, Library\, Old Town Hall
UID:e.2288.10836
SEQUENCE:3
DTSTAMP:20260421T080507Z
URL:http://visitstl-gzcms.preview.gochambermaster.com/events/details/christmas-in-waddington-10836
END:VEVENT

END:VCALENDAR
