BEGIN:VCALENDAR
VERSION:2.0
PRODID:-//ChamberMaster//Event Calendar 2.0//EN
METHOD:PUBLISH
X-PUBLISHED-TTL:P3D
REFRESH-INTERVAL:P3D
CALSCALE:GREGORIAN
BEGIN:VEVENT
DTSTART:20220617T223000Z
DTEND:20220618T000000Z
X-MICROSOFT-CDO-ALLDAYEVENT:FALSE
SUMMARY:Community Paddle Kickoff
DESCRIPTION:RSVP by emailing info@natureupnorth.org. Please specify name\, group size and canoe/kayak preference.
X-ALT-DESC;FMTTYPE=text/html:RSVP by emailing info@natureupnorth.org. Please specify name\, group size and canoe/kayak preference.
LOCATION:Meet at the Little River Boat Launch on Park Street/Rt. 27 in Canton at 6:30pm.
UID:e.2288.11078
SEQUENCE:3
DTSTAMP:20260420T185001Z
URL:http://visitstl-gzcms.preview.gochambermaster.com/events/details/community-paddle-kickoff-11078
END:VEVENT

END:VCALENDAR
