BEGIN:VCALENDAR
VERSION:2.0
PRODID:-//ChamberMaster//Event Calendar 2.0//EN
METHOD:PUBLISH
X-PUBLISHED-TTL:P3D
REFRESH-INTERVAL:P3D
CALSCALE:GREGORIAN
BEGIN:VEVENT
DTSTART:20250614T223000Z
DTEND:20250615T000000Z
X-MICROSOFT-CDO-ALLDAYEVENT:FALSE
SUMMARY:Community Paddle: Learn to Canoe
DESCRIPTION:Community Paddle: Learn to Canoe!\n\nJoin Nature Up North for our first community paddle of the year!\n\n\n\nNature Up North's paddles are free and come with equipment provided. All you need are clothes you don't mind getting wet! We launch from the Little River Boat Launch on outer Park St. in Canton at 6:30 with the goal of returning by 8pm.\n\n\n\nEach outing comes with a theme for us to investigate while out on the water. At this paddle\, Nature Up North will be covering the basic equipment needed to go for a canoe (which we provide!)\, strategies to enter and exit a canoe\, the roles within a 2-person canoe\, and paddle techniques!\n\n\n\nTo sign up\, please fill out the form linked here.
X-ALT-DESC;FMTTYPE=text/html:<span style="font-size:18px\;"><strong>Community Paddle: Learn to Canoe!</strong></span><br />\nJoin Nature Up North for our first community paddle of the year!<br />\n<br />\nNature Up North&#39\;s paddles are free and come with equipment provided. All you need are clothes you don&#39\;t mind getting wet! We launch from the Little River Boat Launch on outer Park St. in Canton at 6:30 with the goal of returning by 8pm.<br />\n<br />\nEach outing comes with a theme for us to investigate while out on the water. At this paddle\, Nature Up North will be covering the basic equipment needed to go for a canoe (which we provide!)\, strategies to enter and exit a canoe\, the roles within a 2-person canoe\, and paddle techniques!<br />\n<br />\nTo sign up\, please fill out the form <a href="https://www.natureupnorth.org/form/first-paddle-registration-6-14" target="_blank">linked here</a>.
LOCATION:Little River Boat Launch Park Street\, Canton\, NY
UID:e.2288.20346
SEQUENCE:3
DTSTAMP:20260421T142750Z
URL:http://visitstl-gzcms.preview.gochambermaster.com/events/details/community-paddle-learn-to-canoe-20346
END:VEVENT

END:VCALENDAR
