BEGIN:VCALENDAR
VERSION:2.0
PRODID:-//ChamberMaster//Event Calendar 2.0//EN
METHOD:PUBLISH
X-PUBLISHED-TTL:P3D
REFRESH-INTERVAL:P3D
CALSCALE:GREGORIAN
BEGIN:VEVENT
DTSTART:20260412T170000Z
DTEND:20260412T190000Z
X-MICROSOFT-CDO-ALLDAYEVENT:FALSE
SUMMARY:Connecting with the Past Art Exhibit
DESCRIPTION:Art Exhibit\n\n\n\nThe Ogdensburg History Museum presents "Connecting With The Past: Ogdensburg Revisited\," a compelling solo exhibition of watercolor paintings by award-winning artist Valerie Patterson.\n\n\n\nThe exhibit opens April 1 and runs through April 30 in the hallway of the Blevins Building\, at 206 Ford St.\, Ogdensburg.\n\nThe public is invited to a Grand Opening Reception on Sunday\, April 12\, from 1 p.m.  to 3 p.m. where they can meet the artist and explore a body of work that serves as a visual bridge between the city's storied past and its present.\n\nA Homecoming Through Art\n\nBorn in 1963 and raised in Ogdensburg\, Valerie Patterson's deep humanitarian roots were planted by her parents\, a Presbyterian minister and a public school teacher. After a distinguished 34-year career teaching visual art\, Patterson focused on her own practice.\n\n"Coming back to Ogdensburg has given me a renewed understanding of the importance of place\," said Patterson. "This city its people\, its history\, and its memories has helped shape who I am. Each painting in this exhibition creates a space I invite you to enter emotionally."\n\nWhere Archival History Meets Contemporary Vision\n\n"Connecting With The Past" features meticulously researched representational works\, many of which utilize archival imagery from the Ogdensburg History Museum and local collections\, such as Chuck Kelly's historic scrapbooks. Patterson's process is one of patience and contemplation\; each piece begins with a conceptual framework and pencil studies\, followed by months of building translucent watercolor layers. Each large-scale (27"x35") painting takes approximately three months to complete.\n\nKey works in the exhibition include:\n\n\n	\n	"Investigating Local History": A vibrant scene at State and Ford Streets where modern children leap into a historic trolley.\n	\n	\n	"Dropping By The Family Business": An exploration of the legendary Hackett's Hardware\, featuring a modern-day Hackett descendant visiting his ancestors.\n	\n	\n	"Connecting With The Past": A poignant look at downtown before Urban Renewal\, featuring a contemporary figure using a cell phone to point the way to the Museum.\n	\n	\n	"Home": A somber and reflective look at the former United Helper's Orphanage that once stood at 1200 State Street.\n	\n\n\nAbout the Artist\n\nValerie Patterson earned her degrees in art and education from SUNY Potsdam. Her award-winning watercolors have been exhibited extensively across the U.S. and abroad\, including at the Bond St. Gallery (Brooklyn)\, the Torpedo Factory Art Center (Virginia)\, and the Dayton International Peace Museum. She is a recipient of the "Juror's Award of Excellence" from the Annmarie Sculpture Garden & Arts Center and multiple "Awards of Excellence" from Manhattan Arts International.\n\nExhibition Details:
X-ALT-DESC;FMTTYPE=text/html:<p><span style="color:#8B4513\;"><span style="background-color: transparent\; font-family: roboto\, sans-serif\; font-size: 12pt\;"><span style="font-size:22px\;">Art Exhibit</span></span></span><br />\n<br />\n<span style="background-color:transparent\; color:rgb(10\, 10\, 10)\; font-family:roboto\,sans-serif\; font-size:12pt">The Ogdensburg History Museum presents&nbsp\;&quot\;Connecting With The Past: Ogdensburg Revisited\,&quot\; a compelling solo exhibition of watercolor paintings by award-winning artist Valerie Patterson.<br />\n<br />\nThe exhibit opens April 1 and runs through April 30 in the hallway of the Blevins Building\, at 206 Ford St.\, Ogdensburg.</span></p>\n\n<p><span style="background-color:transparent\; color:rgb(10\, 10\, 10)\; font-family:roboto\,sans-serif\; font-size:12pt">The public is invited to a Grand Opening Reception on Sunday\, April 12\, from 1 p.m.&nbsp\; to 3 p.m. where they can meet the artist and explore a body of work that serves as a visual bridge between the city&rsquo\;s storied past and its present.</span></p>\n\n<p><strong>A Homecoming Through Art</strong><br />\n<span style="background-color:transparent\; color:rgb(10\, 10\, 10)\; font-family:roboto\,sans-serif\; font-size:12pt">Born in 1963 and raised in Ogdensburg\, Valerie Patterson&rsquo\;s deep humanitarian roots were planted by her parents\, a Presbyterian minister and a public school teacher. After a distinguished 34-year career teaching visual art\, Patterson focused on her own practice.<br />\n&quot\;Coming back to Ogdensburg has given me a renewed understanding of the importance of place\,&quot\; said Patterson. &quot\;This city&mdash\;its people\, its history\, and its memories&mdash\;has helped shape who I am. Each painting in this exhibition creates a space I invite you to enter emotionally.&quot\;</span></p>\n\n<p><strong>Where Archival History Meets Contemporary Vision</strong></p>\n\n<p><span style="background-color:transparent\; color:rgb(10\, 10\, 10)\; font-family:roboto\,sans-serif\; font-size:12pt">&quot\;Connecting With The Past&quot\; features meticulously researched representational works\, many of which utilize archival imagery from the Ogdensburg History Museum and local collections\, such as Chuck Kelly&rsquo\;s historic scrapbooks. Patterson&rsquo\;s process is one of patience and contemplation\; each piece begins with a conceptual framework and pencil studies\, followed by months of building translucent watercolor layers. Each large-scale (27&rdquo\;x35&rdquo\;) painting takes approximately three months to complete.</span></p>\n\n<p><span style="background-color:transparent\; color:rgb(10\, 10\, 10)\; font-family:roboto\,sans-serif\; font-size:12pt">Key works in the exhibition include:</span></p>\n\n<ul>\n	<li>\n	<p><strong>&quot\;Investigating Local History&quot\;:</strong><span style="background-color:transparent\; font-size:12pt"> A vibrant scene at State and Ford Streets where modern children leap into a historic trolley.</span></p>\n	</li>\n	<li>\n	<p><strong>&quot\;Dropping By The Family Business&quot\;:</strong><span style="background-color:transparent\; font-size:12pt"> An exploration of the legendary Hackett&rsquo\;s Hardware\, featuring a modern-day Hackett descendant visiting his ancestors.</span></p>\n	</li>\n	<li>\n	<p><strong>&quot\;Connecting With The Past&quot\;:</strong><span style="background-color:transparent\; font-size:12pt"> A poignant look at downtown before Urban Renewal\, featuring a contemporary figure using a cell phone to point the way to the Museum.</span></p>\n	</li>\n	<li>\n	<p><strong>&quot\;Home&quot\;:</strong><span style="background-color:transparent\; font-size:12pt"> A somber and reflective look at the former United Helper&rsquo\;s Orphanage that once stood at 1200 State Street.</span></p>\n	</li>\n</ul>\n\n<p><strong>About the Artist</strong></p>\n\n<p><span style="background-color:transparent\; color:rgb(10\, 10\, 10)\; font-family:roboto\,sans-serif\; font-size:12pt">Valerie Patterson earned her degrees in art and education from SUNY Potsdam. Her award-winning watercolors have been exhibited extensively across the U.S. and abroad\, including at the Bond St. Gallery (Brooklyn)\, the Torpedo Factory Art Center (Virginia)\, and the Dayton International Peace Museum. She is a recipient of the &quot\;Juror&rsquo\;s Award of Excellence&quot\; from the Annmarie Sculpture Garden &amp\; Arts Center and multiple &quot\;Awards of Excellence&quot\; from Manhattan Arts International.</span></p>\n\n<p><strong>Exhibition Details:</strong></p>\n
LOCATION:Ogdensburg History Museum\, 206 Ford St.\, Ogdensburg
UID:e.2288.20769
SEQUENCE:3
DTSTAMP:20260420T051135Z
URL:http://visitstl-gzcms.preview.gochambermaster.com/events/details/connecting-with-the-past-art-exhibit-20769
END:VEVENT

END:VCALENDAR
