BEGIN:VCALENDAR
VERSION:2.0
PRODID:-//ChamberMaster//Event Calendar 2.0//EN
METHOD:PUBLISH
X-PUBLISHED-TTL:P3D
REFRESH-INTERVAL:P3D
CALSCALE:GREGORIAN
BEGIN:VEVENT
DTSTART:20240308T170000Z
DTEND:20240308T173000Z
X-MICROSOFT-CDO-ALLDAYEVENT:FALSE
SUMMARY:Consider This: "Snug Island" (Portrait of Eva Remington)
DESCRIPTION:CONSIDER THIS: SNUG ISLAND\n\nPORTRAIT OF EVA REMINGTON\n\nThe Frederic Remington Art Museum invites the public to participate in one of March's "Consider This" programs\, focusing on Frederic Remington's 1888 painting "Snug Island" (Portrait of Eva Remington). This program offers guided exploration of a single work of art on display at the Remington Museum. "Consider This" is for all ability levels\, and no art background is required. Participants simply need an interest in joining the conversation. A different artwork is featured each month\, with three program sessions to choose from in March: Friday\, March 8 (on-site)\, Friday\, March 15 (hybrid on-site/virtual)\, and Thursday\, March 28 (hybrid on-site/virtual).
X-ALT-DESC;FMTTYPE=text/html:<span style="font-size:20px\;"><strong>CONSIDER THIS: SNUG ISLAND</strong><br />\nPORTRAIT OF EVA REMINGTON</span><br />\nThe Frederic Remington Art Museum invites the public to participate in one of March&rsquo\;s &ldquo\;Consider This&rdquo\; programs\, focusing on Frederic Remington&rsquo\;s 1888 painting &quot\;Snug Island&quot\; (Portrait of Eva Remington). This program offers guided exploration of a single work of art on display at the Remington Museum. &ldquo\;Consider This&rdquo\; is for all ability levels\, and no art background is required. Participants simply need an interest in joining the conversation. A different artwork is featured each month\, with three program sessions to choose from in March: Friday\, March 8 (on-site)\, Friday\, March 15 (hybrid on-site/virtual)\, and Thursday\, March 28 (hybrid on-site/virtual).
LOCATION:Frederic Remington Art Museum 303 Washington Street\, Ogdensburg\, NY 13669
UID:e.2288.16767
SEQUENCE:3
DTSTAMP:20260422T054009Z
URL:http://visitstl-gzcms.preview.gochambermaster.com/events/details/consider-this-snug-island-portrait-of-eva-remington-16767
END:VEVENT

END:VCALENDAR
