BEGIN:VCALENDAR
VERSION:2.0
PRODID:-//ChamberMaster//Event Calendar 2.0//EN
METHOD:PUBLISH
X-PUBLISHED-TTL:P3D
REFRESH-INTERVAL:P3D
CALSCALE:GREGORIAN
BEGIN:VEVENT
DTSTART:20191005T140000Z
DTEND:20191005T190000Z
X-MICROSOFT-CDO-ALLDAYEVENT:FALSE
SUMMARY:Craft/Vendor Fall Festival
DESCRIPTION:This Fall Festival will have crafters and vendors. There will also be fun activities for the kids\, as well as baked goods.
X-ALT-DESC;FMTTYPE=text/html:This Fall Festival will have crafters and vendors. There will also be fun activities for the kids\, as well as baked goods.
LOCATION:Hermon-DeKalb Central School 709 East DeKalb Rd. DeKalb Jct.\, NY 13630
UID:e.2288.8234
SEQUENCE:3
DTSTAMP:20260425T103440Z
URL:http://visitstl-gzcms.preview.gochambermaster.com/events/details/craft-vendor-fall-festival-8234
END:VEVENT

END:VCALENDAR
