BEGIN:VCALENDAR
VERSION:2.0
PRODID:-//ChamberMaster//Event Calendar 2.0//EN
METHOD:PUBLISH
X-PUBLISHED-TTL:P3D
REFRESH-INTERVAL:P3D
CALSCALE:GREGORIAN
BEGIN:VEVENT
DTSTART:20231028T140000Z
DTEND:20231029T200000Z
X-MICROSOFT-CDO-ALLDAYEVENT:FALSE
SUMMARY:Creepy Critters Halloween Event
DESCRIPTION:CREEPY CRITTERS HALLOWEEN EVENT\n\nNICANDRI NATURE CENTER\n\nThe Nicandri Nature Center will be hosting a Creepy Critters Halloween Event on Saturday Oct. 28 & Sunday Oct. 29th from 10:00am - 4:00pm. Enjoy family activities including: trick-or-treating\, games\, scavenger hunts\, craft projects\, live reptiles from Her-Petology\, a Storywalk along nature trails and more! Costumes are welcome but not required. The event is free and open to all. CLICK HERE to watch a video of what the nature team has store for some family fun!
X-ALT-DESC;FMTTYPE=text/html:<span style="color:#FF8C00\;"><span style="font-size:20px\;"><strong>CREEPY CRITTERS HALLOWEEN EVENT</strong><br />\nNICANDRI NATURE CENTER</span></span><br />\nThe Nicandri Nature Center will be hosting a Creepy Critters Halloween Event on Saturday Oct. 28 &amp\; Sunday Oct. 29th from 10:00am - 4:00pm. Enjoy family activities including: trick-or-treating\, games\, scavenger hunts\, craft projects\, live reptiles from Her-Petology\, a Storywalk along nature trails and more! Costumes are welcome but not required. The event is free and open to all. <a href="https://www.facebook.com/NicandriNatureCenter/videos/1067692327729441" target="_blank">CLICK HERE</a> to watch a video of what the nature team has store for some family fun!
LOCATION:Nicandri Nature Center 19 Robinson Bay Road Massena\, NY
UID:e.2288.14572
SEQUENCE:3
DTSTAMP:20260422T121133Z
URL:http://visitstl-gzcms.preview.gochambermaster.com/events/details/creepy-critters-halloween-event-14572
END:VEVENT

END:VCALENDAR
