BEGIN:VCALENDAR
VERSION:2.0
PRODID:-//ChamberMaster//Event Calendar 2.0//EN
METHOD:PUBLISH
X-PUBLISHED-TTL:P3D
REFRESH-INTERVAL:P3D
CALSCALE:GREGORIAN
BEGIN:VEVENT
DTSTART:20220521T140000Z
DTEND:20220521T200000Z
X-MICROSOFT-CDO-ALLDAYEVENT:FALSE
SUMMARY:Deep Root Center Party in the Park
DESCRIPTION:Craftshow and Live Music Featuring River Mohawk Band\, Playback\, and Downtown.
X-ALT-DESC;FMTTYPE=text/html:Craftshow and Live Music Featuring River Mohawk Band\, Playback\, and Downtown.
LOCATION:Lawrenceville Firehall and Field 1081 CR 54
UID:e.2288.10999
SEQUENCE:3
DTSTAMP:20260420T220040Z
URL:http://visitstl-gzcms.preview.gochambermaster.com/events/details/deep-root-center-party-in-the-park-10999
END:VEVENT

END:VCALENDAR
