BEGIN:VCALENDAR
VERSION:2.0
PRODID:-//ChamberMaster//Event Calendar 2.0//EN
METHOD:PUBLISH
X-PUBLISHED-TTL:P3D
REFRESH-INTERVAL:P3D
CALSCALE:GREGORIAN
BEGIN:VEVENT
DTSTART:20250719T140000Z
DTEND:20250719T150000Z
X-MICROSOFT-CDO-ALLDAYEVENT:FALSE
SUMMARY:Discovering Pond Life
DESCRIPTION:Discovering Pond Life\n\nJoin Nature Up North to explore the waters of Indian Creek Nature Center! Nature Up North's summer naturalists will teach you how to catch and identify common macroinvertebrates that can be found at Indian Creek\, and what they can tell us about the water quality at the nature center. Water shoes are recommended\, and swim trunks are only needed if you're getting in the water with us. We may even have waders!
X-ALT-DESC;FMTTYPE=text/html:<span style="font-size:18px\;"><strong>Discovering Pond Life</strong></span><br />\nJoin Nature Up North to explore the waters of Indian Creek Nature Center! Nature Up North&#39\;s summer naturalists will teach you how to catch and identify common macroinvertebrates that can be found at Indian Creek\, and what they can tell us about the water quality at the nature center. Water shoes are recommended\, and swim trunks are only needed if you&#39\;re getting in the water with us. We may even have waders!
LOCATION:Indian Creek Nature Center 700 Co Rd 14 | Rensselaer Falls\, NY 13680
UID:e.2288.20488
SEQUENCE:3
DTSTAMP:20260421T014239Z
URL:http://visitstl-gzcms.preview.gochambermaster.com/events/details/discovering-pond-life-20488
END:VEVENT

END:VCALENDAR
