BEGIN:VCALENDAR
VERSION:2.0
PRODID:-//ChamberMaster//Event Calendar 2.0//EN
METHOD:PUBLISH
X-PUBLISHED-TTL:P3D
REFRESH-INTERVAL:P3D
CALSCALE:GREGORIAN
BEGIN:VEVENT
DTSTART;VALUE=DATE:20231028
DTEND;VALUE=DATE:20231029
TRANSP:TRANSPARENT
X-MICROSOFT-CDO-ALLDAYEVENT:TRUE
SUMMARY:Do the Monster Mash at Bayside Grill
DESCRIPTION:DO THE MONSTER MASH\n\nAT BAYSIDE GRILL\n\n\n\nBring your scary spirits to The Bayside Grill on Saturday\, October 28th at 6:00pm for Boos\, Booze and Live Music by Singer-Songwriter Shawn Stoddard.\n\n\n\nEnter for a chance to win a Free Halloween Swag Basket from Singer-Songwriter Shawn Stoddard. There is no purchase necessary for a chance to win the Halloween Swag Basket\; however\, you must be present to win. Contents of the Halloween Swag Basket TBA.\n\n\n\nAll dreadful souls are welcome to participate in this ghoulish event at 1702 Ford Street\, Ogdensburg\, NY. Happy Halloween!
X-ALT-DESC;FMTTYPE=text/html:<span style="color:#FF8C00\;"><span style="font-size:20px\;"><strong>DO THE MONSTER MASH</strong><br />\nAT BAYSIDE GRILL</span></span><br />\n<br />\nBring your scary spirits to The Bayside Grill on Saturday\, October 28th at 6:00pm for Boos\, Booze and Live Music by Singer-Songwriter Shawn Stoddard.<br />\n<br />\nEnter for a chance to win a Free Halloween Swag Basket from Singer-Songwriter Shawn Stoddard. There is no purchase necessary for a chance to win the Halloween Swag Basket\; however\, you must be present to win. Contents of the Halloween Swag Basket TBA.<br />\n<br />\nAll dreadful souls are welcome to participate in this ghoulish event at 1702 Ford Street\, Ogdensburg\, NY. Happy Halloween!&nbsp\;
LOCATION:The Bayside Grill 1702 Ford Street Ogdensburg\, NY
UID:e.2288.15848
SEQUENCE:3
DTSTAMP:20260422T121134Z
URL:http://visitstl-gzcms.preview.gochambermaster.com/events/details/do-the-monster-mash-at-bayside-grill-15848
END:VEVENT

END:VCALENDAR
